BEGIN:VCALENDAR
VERSION:2.0
PRODID:-//SoundsGood - ECPv4.9.4//NONSGML v1.0//EN
CALSCALE:GREGORIAN
METHOD:PUBLISH
X-WR-CALNAME:SoundsGood
X-ORIGINAL-URL:https://soundsgood.guide
X-WR-CALDESC:Events for SoundsGood
BEGIN:VTIMEZONE
TZID:"Pacific/Auckland"
BEGIN:STANDARD
TZOFFSETFROM:+1300
TZOFFSETTO:+1200
TZNAME:NZST
DTSTART:20250405T140000
END:STANDARD
BEGIN:DAYLIGHT
TZOFFSETFROM:+1200
TZOFFSETTO:+1300
TZNAME:NZDT
DTSTART:20250927T140000
END:DAYLIGHT
END:VTIMEZONE
BEGIN:VEVENT
DTSTART;TZID="Pacific/Auckland":20250313T193000
DTEND;TZID="Pacific/Auckland":20250313T223000
DTSTAMP:20260424T211815
CREATED:20250126T195034Z
LAST-MODIFIED:20250126T195034Z
UID:24576-1741894200-1741905000@soundsgood.guide
SUMMARY:3 Bucks Left with special guest Eddie Durkan
DESCRIPTION:Irish Comedians ‘3 Bucks Left’ Announce their first ever Australia & New Zealand Tour for March 2025 \nGet ready for a night of laughter and unforgettable comedy as legendary Irish group ‘3 Bucks Left’ bring their raucous show down under in March 2025! With very special guest\, the legendary Martin Maloney AKA Eddie Durkan. \nWhether you’re a long-time fan\, or new to the world of 3 Bucks Left\, this show promises to be a side-splitting experience you won’t want to miss. Gather your friends and family for a night full of laughs\, banter\, and the kind of comedy that will have you talking for weeks. \n3 Bucks Left was created by childhood friends and total\, utter piss takers. This Satire is laden with comedy and pathos throughout\, inspiring many other acts in its wake. Now a decade later\, it remains one of Ireland’s favourite comedy shows. \nIt’s been a wild ride of ups and downs. Crude\, lofty\, self-deprecating introspection\, coupled with rowdy philosophies. Such misadventures are not for the faint of heart. Ruggedly charming\, extremely funny riding close to the wind. \nOne night of stone mad massive craic\, pure hilarious goin’s on\, and some philosophical reflection. \nOf course…with some; CREAMY FOOOOKIN PINTS!! \n…you know. \n
URL:https://soundsgood.guide/gig/3-bucks-left-with-special-guest-eddie-durkan/
LOCATION:A Rolling Stone\, 579 Colombo Street\, Christchurch\, Canterbury\, 8011\, New Zealand
CATEGORIES:Comedy
ATTACH;FMTTYPE=image/jpeg:https://soundsgood.guide/wp-content/uploads/2025/01/93345-918685.jpg
END:VEVENT
END:VCALENDAR