BEGIN:VCALENDAR
VERSION:2.0
PRODID:-//SoundsGood - ECPv4.9.4//NONSGML v1.0//EN
CALSCALE:GREGORIAN
METHOD:PUBLISH
X-WR-CALNAME:SoundsGood
X-ORIGINAL-URL:https://soundsgood.guide
X-WR-CALDESC:Events for SoundsGood
BEGIN:VTIMEZONE
TZID:"Pacific/Auckland"
BEGIN:STANDARD
TZOFFSETFROM:+1300
TZOFFSETTO:+1200
TZNAME:NZST
DTSTART:20250405T140000
END:STANDARD
BEGIN:DAYLIGHT
TZOFFSETFROM:+1200
TZOFFSETTO:+1300
TZNAME:NZDT
DTSTART:20250927T140000
END:DAYLIGHT
END:VTIMEZONE
BEGIN:VEVENT
DTSTART;TZID="Pacific/Auckland":20250927T210000
DTEND;TZID="Pacific/Auckland":20250927T230000
DTSTAMP:20260420T033147
CREATED:20250923T030744Z
LAST-MODIFIED:20250923T030744Z
UID:26304-1759006800-1759014000@soundsgood.guide
SUMMARY:3i/atlas : Hard House : Hard Trance
DESCRIPTION:3I/ATLAS : HARD HOUSE : HARD TRANCE \nWaxformats NZ On The Decks \nThey’re Coming. 3I ATLAS is hurtling through space at incredible speed. World leading scientists highlight that it it may be an alien probe or space craft. After hours on online research on facebook and social media – the one true source of information\, we are preparing for what we know. \nThey’re coming. \nPrepare for thier arrival. On this night we send a Galactic Transmission. See our comments and event updates for your guide to communicating with aliens. \nWe must dance.\nElevant.\nTransmit. \nHARD TRANCE : HARD HOUSE : Galactic Transmission.\nTrain on Space Invaders.\nBe ready. \nGALAXY BAR // \nA dive bar on the eastern frame situated under the shadow of Te Kaha Stadium (which we know is actually a spaceship commissioned by the NZ Government ) \nBurgers\, beers\, video games\, Eco-Pirate HQ\, Monday plastic recycling\, Tuesday open decks\, Wednesday date night\, Thursday Gravitate local dj’s on the decks\, Fri & Sat dance parties / karaoke / work dos / birthdays\, weekend is family gaming time. \nBurgers\, Mac’n Cheese\, Fish & Chips\, get your munchie fix\, eat instore or order online 6pm – 6 am \n
URL:https://soundsgood.guide/gig/3i-atlas-hard-house-hard-trance/
LOCATION:Galaxy Bar\, 206 Barbadoes Street\, New Zealand
CATEGORIES:Gig
ATTACH;FMTTYPE=image/jpeg:https://soundsgood.guide/wp-content/uploads/2025/09/98434-724541.jpg
END:VEVENT
END:VCALENDAR