BEGIN:VCALENDAR
VERSION:2.0
PRODID:-//SoundsGood - ECPv4.9.4//NONSGML v1.0//EN
CALSCALE:GREGORIAN
METHOD:PUBLISH
X-WR-CALNAME:SoundsGood
X-ORIGINAL-URL:https://soundsgood.guide
X-WR-CALDESC:Events for SoundsGood
BEGIN:VTIMEZONE
TZID:"Pacific/Auckland"
BEGIN:STANDARD
TZOFFSETFROM:+1300
TZOFFSETTO:+1200
TZNAME:NZST
DTSTART:20250405T140000
END:STANDARD
BEGIN:DAYLIGHT
TZOFFSETFROM:+1200
TZOFFSETTO:+1300
TZNAME:NZDT
DTSTART:20250927T140000
END:DAYLIGHT
END:VTIMEZONE
BEGIN:VEVENT
DTSTART;TZID="Pacific/Auckland":20250111T200000
DTEND;TZID="Pacific/Auckland":20250112T000000
DTSTAMP:20260421T115707
CREATED:20241110T192413Z
LAST-MODIFIED:20241110T192413Z
UID:24047-1736625600-1736640000@soundsgood.guide
SUMMARY:Absolute BOWIE
DESCRIPTION:Sanctuary Events present \nABSOLUTE BOWIE \nALL BOWIE – ALL NIGHT!! \nDJs Regress & Pris will be playing Bowie songs all night!\nCome along on the 9th anniversary of the thin white duke’s passing and enjoy the music from his amazing legacy. \nTickets from Undertheradar UTR.CO.NZ\nR18\nR.O.A.R \n
URL:https://soundsgood.guide/gig/absolute-bowie-7/
LOCATION:darkroom\, 336 St. Asaph St\, Christchurch\, 8011\, NZ
CATEGORIES:Concert,Dance,DJ Night,Gig,Music
ATTACH;FMTTYPE=image/jpeg:https://soundsgood.guide/wp-content/uploads/2024/11/bowie2025_web-scaled.jpg
ORGANIZER;CN="Sanctuary%20Events":MAILTO:sanctuary.events@xtra.co.nz
END:VEVENT
END:VCALENDAR