BEGIN:VCALENDAR
VERSION:2.0
PRODID:-//SoundsGood - ECPv4.9.4//NONSGML v1.0//EN
CALSCALE:GREGORIAN
METHOD:PUBLISH
X-WR-CALNAME:SoundsGood
X-ORIGINAL-URL:https://soundsgood.guide
X-WR-CALDESC:Events for SoundsGood
BEGIN:VTIMEZONE
TZID:"Pacific/Auckland"
BEGIN:STANDARD
TZOFFSETFROM:+1300
TZOFFSETTO:+1200
TZNAME:NZST
DTSTART:20260404T140000
END:STANDARD
BEGIN:DAYLIGHT
TZOFFSETFROM:+1200
TZOFFSETTO:+1300
TZNAME:NZDT
DTSTART:20260926T140000
END:DAYLIGHT
END:VTIMEZONE
BEGIN:VEVENT
DTSTART;TZID="Pacific/Auckland":20260110T200000
DTEND;TZID="Pacific/Auckland":20260111T003000
DTSTAMP:20260422T202535
CREATED:20251111T213009Z
LAST-MODIFIED:20251111T213009Z
UID:26442-1768075200-1768091400@soundsgood.guide
SUMMARY:Absolute BOWIE - DJ Music Night
DESCRIPTION:Sanctuary Events present \nABSOLUTE BOWIE \nALL BOWIE – ALL NIGHT!! \nDJs Regress & Pris will be playing Bowie songs all night!\nCome along on the 10th anniversary of the thin white duke’s passing and enjoy the music from his amazing legacy. \nTickets from Undertheradar UTR.CO.NZ\nR18\nR.O.A.R \n
URL:https://soundsgood.guide/gig/absolute-bowie-dj-music-night/
LOCATION:Darkroom\, 336 St Asaph Street\, Christchurch\, Canterbury\, New Zealand
CATEGORIES:Concert,Dance,DJ Night,Gig,Music
ATTACH;FMTTYPE=image/jpeg:https://soundsgood.guide/wp-content/uploads/2025/11/bowie2026_WEB-scaled.jpg
ORGANIZER;CN="Sanctuary%20Events":MAILTO:sanctuary.events@xtra.co.nz
END:VEVENT
END:VCALENDAR