BEGIN:VCALENDAR
VERSION:2.0
PRODID:-//SoundsGood - ECPv4.9.4//NONSGML v1.0//EN
CALSCALE:GREGORIAN
METHOD:PUBLISH
X-WR-CALNAME:SoundsGood
X-ORIGINAL-URL:https://soundsgood.guide
X-WR-CALDESC:Events for SoundsGood
BEGIN:VTIMEZONE
TZID:"Pacific/Auckland"
BEGIN:STANDARD
TZOFFSETFROM:+1300
TZOFFSETTO:+1200
TZNAME:NZST
DTSTART:20250405T140000
END:STANDARD
BEGIN:DAYLIGHT
TZOFFSETFROM:+1200
TZOFFSETTO:+1300
TZNAME:NZDT
DTSTART:20250927T140000
END:DAYLIGHT
END:VTIMEZONE
BEGIN:VEVENT
DTSTART;TZID="Pacific/Auckland":20250404T220000
DTEND;TZID="Pacific/Auckland":20250405T030000
DTSTAMP:20260421T102105
CREATED:20250317T020523Z
LAST-MODIFIED:20250317T020523Z
UID:25151-1743804000-1743822000@soundsgood.guide
SUMMARY:Accelerate ft. MCNILLA & YEN
DESCRIPTION:We’re excited to bring you the first installment of our new club night–Accelerate ft. MCNILLA & YEN w/ MC MOZ. \n  \nA night built for those who like it fast\, heavy\, and relentless. We’re diving deep into Jump-Up DnB—face-melting basslines\, dark and stormy visuals\, and sharp lighting that cuts through the chaos. Think black\, white\, cyan\, and red strobes flashing over a grungy\, high-energy rave. If you’re here to tear out\, this one’s for you. \n  \nHide Club | 172 St Asaph Street \nFriday 4th April | 10:00pm – 3:00am \nSupport from: Jenhippo\, T Nics\, Shearz & Fitz\, Manu & Judge \n  \nTickets go live Thursday\, 13th March at 5:00 PM sharp – don’t miss out. \n  \nMCNILLA: \nMCNILLA is Drum and Bass DJ known for his signature high energy and euphoric selections. originally from Ireland he moved to Christchurch New Zealand in late 2015 and has since landed himself multiple shows in and around the country supporting heavyweight internationals such as Camo & Krooked\, Culture Shock\, K Motionz\, & Upgrade. \nMCNILLA appreciates all flavors of Drum and Bass but takes pride in signature high energy and euphoric selections. \n  \nYen: \nYen\, also known as Tre George\, is a 21-year-old producer and DJ who has been making waves in the NZ Drum and Bass scene. He has truly established himself as one of the most exciting up-and-coming producers and DJs in New Zealand. \n  \nAt the ripe age of 21\, Yen released his debut singles “Dust Up” and “Herb” on Subway Soundz\, both of which shot straight to number 1 on Beatport’s top 10 drum and bass releases chart. Since then\, Yen has been sitting on a mountain of dubs including a collab with Dux n Bass and has been working with a range of local and international producers to truly refine his sound. This has earned him support from the likes of Sota\, Dutta\, Kelvin 373\, Selecta J-Man\, Crossy\, Bish\, Aries\, and many more. \n  \nHis growing reputation as one of New Zealand’s most exciting drum and bass exports has led him to perform alongside artists like Sota\, Amplify\, K Motionz\, Enei\, Jakes\, Pola & Bryson\, Upgrade\, Ac13\, and the Born on Road crew\, to name a few. \n  \nYen’s enthusiasm for big shows has also landed him performances at some of New Zealand’s largest shows and festivals\, with no sign of slowing down. As this young producer looks ahead to the rest of 2024\, his career can only continue to grow from here.” \n
URL:https://soundsgood.guide/gig/accelerate-ft-mcnilla-yen/
LOCATION:Hide\, 172 St Asaph Street\, Christchurch\, 8011\, NZ
CATEGORIES:DJ Night
ATTACH;FMTTYPE=image/png:https://soundsgood.guide/wp-content/uploads/2025/03/Screenshot-2025-03-17-150506.png
END:VEVENT
END:VCALENDAR