BEGIN:VCALENDAR
VERSION:2.0
PRODID:-//SoundsGood - ECPv4.9.4//NONSGML v1.0//EN
CALSCALE:GREGORIAN
METHOD:PUBLISH
X-WR-CALNAME:SoundsGood
X-ORIGINAL-URL:https://soundsgood.guide
X-WR-CALDESC:Events for SoundsGood
BEGIN:VTIMEZONE
TZID:"Pacific/Auckland"
BEGIN:STANDARD
TZOFFSETFROM:+1300
TZOFFSETTO:+1200
TZNAME:NZST
DTSTART:20240406T140000
END:STANDARD
BEGIN:DAYLIGHT
TZOFFSETFROM:+1200
TZOFFSETTO:+1300
TZNAME:NZDT
DTSTART:20240928T140000
END:DAYLIGHT
END:VTIMEZONE
BEGIN:VEVENT
DTSTART;TZID="Pacific/Auckland":20240727T200000
DTEND;TZID="Pacific/Auckland":20240727T223000
DTSTAMP:20260420T094058
CREATED:20240617T232940Z
LAST-MODIFIED:20240617T232940Z
UID:22887-1722110400-1722119400@soundsgood.guide
SUMMARY:Adam Hattaway and The Haunters - High Horse Tour
DESCRIPTION:New music is on the horizon! \nWith a new sound Adam Hattaway along with his band The Haunters are getting back on the road.\nA snap quick tour of Aotearoa\, hitting Tāmaki Makaurau & hometown Ōtautahi. \nIn celebration of upcoming single ‘High Horse’ out on 7 July 12th via Leather Jacket Records. \nSupport from Milan Borich (Pluto) \nPre-sales $25 ($15 Artist / Unwaged tickets)\nAll tickets $30 on the door\nTickets via Under the Radar\, 7 inch on the door or from your fav record store. \n
URL:https://soundsgood.guide/gig/adam-hattaway-and-the-haunters-high-horse-tour/
LOCATION:Wunderbar\, 14 Canterbury Street\, Lyttelton\, 8082\, New Zealand
CATEGORIES:Concert,Gig
ATTACH;FMTTYPE=image/jpeg:https://soundsgood.guide/wp-content/uploads/2024/06/ADAM-HATTAWAY-HIGH-HORSE-TOUR-POSTER-insta.jpg
END:VEVENT
END:VCALENDAR