BEGIN:VCALENDAR
VERSION:2.0
PRODID:-//SoundsGood - ECPv4.9.4//NONSGML v1.0//EN
CALSCALE:GREGORIAN
METHOD:PUBLISH
X-WR-CALNAME:SoundsGood
X-ORIGINAL-URL:https://soundsgood.guide
X-WR-CALDESC:Events for SoundsGood
BEGIN:VTIMEZONE
TZID:"Pacific/Auckland"
BEGIN:STANDARD
TZOFFSETFROM:+1300
TZOFFSETTO:+1200
TZNAME:NZST
DTSTART:20250405T140000
END:STANDARD
BEGIN:DAYLIGHT
TZOFFSETFROM:+1200
TZOFFSETTO:+1300
TZNAME:NZDT
DTSTART:20250927T140000
END:DAYLIGHT
END:VTIMEZONE
BEGIN:VEVENT
DTSTART;TZID="Pacific/Auckland":20250927T203000
DTEND;TZID="Pacific/Auckland":20250927T223000
DTSTAMP:20260420T015252
CREATED:20250923T025651Z
LAST-MODIFIED:20250923T025651Z
UID:26294-1759005000-1759012200@soundsgood.guide
SUMMARY:All Going To Plan - Sentient Mud Single Release
DESCRIPTION:It’s about time! Sentient Mud a stentorian sound sensation. Hitting your ear drums with their sacred electric banjo\, sensational bass\, stella druming and scintillating vocals. A gig not to miss as we celebrate the recording and release of our new single. With special guests Swamp Meet and The Mulls.\nDoors at 8pm\, show starts at 8:30pm. Tickets $10 with door sales avalible. \n
URL:https://soundsgood.guide/gig/all-going-to-plan-sentient-mud-single-release/
LOCATION:darkroom\, 336 St. Asaph St\, Christchurch\, 8011\, New Zealand
CATEGORIES:Gig
ATTACH;FMTTYPE=image/png:https://soundsgood.guide/wp-content/uploads/2025/09/98403-91292.png
END:VEVENT
END:VCALENDAR