BEGIN:VCALENDAR
VERSION:2.0
PRODID:-//SoundsGood - ECPv4.9.4//NONSGML v1.0//EN
CALSCALE:GREGORIAN
METHOD:PUBLISH
X-WR-CALNAME:SoundsGood
X-ORIGINAL-URL:https://soundsgood.guide
X-WR-CALDESC:Events for SoundsGood
BEGIN:VTIMEZONE
TZID:"Pacific/Auckland"
BEGIN:STANDARD
TZOFFSETFROM:+1300
TZOFFSETTO:+1200
TZNAME:NZST
DTSTART:20250405T140000
END:STANDARD
BEGIN:DAYLIGHT
TZOFFSETFROM:+1200
TZOFFSETTO:+1300
TZNAME:NZDT
DTSTART:20250927T140000
END:DAYLIGHT
END:VTIMEZONE
BEGIN:VEVENT
DTSTART;TZID="Pacific/Auckland":20251114T200000
DTEND;TZID="Pacific/Auckland":20251114T233000
DTSTAMP:20260420T015530
CREATED:20251111T213010Z
LAST-MODIFIED:20251111T213010Z
UID:26445-1763150400-1763163000@soundsgood.guide
SUMMARY:Andrew Fagan: The Passage of Time Tour
DESCRIPTION:Andrew Fagan – solo sailor\, songwriter\, and frontman of legendary Kiwi band The Mockers – brings his solo show Passage Of Time – Songs and Stories from a Swirly World to Ōtautahi. \nThe show is a unique blend of spoken word\, storytelling\, and intimate live music\, as Fagan shares tales from his sailing and music adventures\, interwoven with songs spanning his entire career – from Mockers classics to his prolific solo catalogue \n
URL:https://soundsgood.guide/gig/andrew-fagan-the-passage-of-time-tour/
LOCATION:A Rolling Stone – 579 Colombo Street\, Christchurch\, 579 Colombo Street\, Christchurch\, Canterbury\, New Zealand
CATEGORIES:Music,Poetry,Talks
ATTACH;FMTTYPE=image/jpeg:https://soundsgood.guide/wp-content/uploads/2025/11/Andrew-Fagan_Eventfinda.jpg
END:VEVENT
END:VCALENDAR