BEGIN:VCALENDAR
VERSION:2.0
PRODID:-//SoundsGood - ECPv4.9.4//NONSGML v1.0//EN
CALSCALE:GREGORIAN
METHOD:PUBLISH
X-WR-CALNAME:SoundsGood
X-ORIGINAL-URL:https://soundsgood.guide
X-WR-CALDESC:Events for SoundsGood
BEGIN:VTIMEZONE
TZID:"Pacific/Auckland"
BEGIN:STANDARD
TZOFFSETFROM:+1300
TZOFFSETTO:+1200
TZNAME:NZST
DTSTART:20250405T140000
END:STANDARD
BEGIN:DAYLIGHT
TZOFFSETFROM:+1200
TZOFFSETTO:+1300
TZNAME:NZDT
DTSTART:20250927T140000
END:DAYLIGHT
END:VTIMEZONE
BEGIN:VEVENT
DTSTART;TZID="Pacific/Auckland":20250808T210000
DTEND;TZID="Pacific/Auckland":20250808T230000
DTSTAMP:20260420T015530
CREATED:20250803T233406Z
LAST-MODIFIED:20250803T233406Z
UID:26075-1754686800-1754694000@soundsgood.guide
SUMMARY:Ani Saafa X Lipstick South Island Tour 25'
DESCRIPTION:Making the trip from Te Whanganui a Tara (Wellington)\, these two electrifying acts have come together to make their mark on the South Island with their 2025 South Island Tour. \nThe pair of bands blossomed a partnership upon Ani Saafa’s recent move to the North Island (from Ōtepoti). With Lipstick’s foot already in the door of Te Whanganui a Tara’s music scene\, and Ani Saafa’s experience in the South\, the two troupes are making a name for themselves in the NZ music scene. \nANI SAAFA and LIPSTICK are combining their sonic energy to present two stellar South Island shows:\nŌtepoti (DUD) – August 7th\nŌtautahi (CHC) – August 8th \n
URL:https://soundsgood.guide/gig/ani-saafa-x-lipstick-south-island-tour-25/
LOCATION:Wunderbar\, 14 Canterbury Street\, Lyttelton\, 8082\, New Zealand
CATEGORIES:Concert
ATTACH;FMTTYPE=image/png:https://soundsgood.guide/wp-content/uploads/2025/08/97417-824394.png
END:VEVENT
END:VCALENDAR