BEGIN:VCALENDAR
VERSION:2.0
PRODID:-//SoundsGood - ECPv4.9.4//NONSGML v1.0//EN
CALSCALE:GREGORIAN
METHOD:PUBLISH
X-WR-CALNAME:SoundsGood
X-ORIGINAL-URL:https://soundsgood.guide
X-WR-CALDESC:Events for SoundsGood
BEGIN:VTIMEZONE
TZID:"Pacific/Auckland"
BEGIN:STANDARD
TZOFFSETFROM:+1300
TZOFFSETTO:+1200
TZNAME:NZST
DTSTART:20250405T140000
END:STANDARD
BEGIN:DAYLIGHT
TZOFFSETFROM:+1200
TZOFFSETTO:+1300
TZNAME:NZDT
DTSTART:20250927T140000
END:DAYLIGHT
END:VTIMEZONE
BEGIN:VEVENT
DTSTART;TZID="Pacific/Auckland":20250611T080000
DTEND;TZID="Pacific/Auckland":20250611T170000
DTSTAMP:20260422T081823
CREATED:20250611T033704Z
LAST-MODIFIED:20250611T033704Z
UID:25899-1749628800-1749661200@soundsgood.guide
SUMMARY:Ascension V2.0
DESCRIPTION:\nPsymatic Sound is back with the good stuff. Psymatic have one big fat juicy rig that just makes you go hhhhhhhmmmmmmmmmm \n\n\n\n \n\n\n\no join us for a night of sound summoned from the realms of time and space. Expect anything from Prog\, Psy Tech\, Techno\, Tech House\, Bass and anything in between. \n\n\n\nFeeling like you want to leave Earth for a night but caKia Ora Whānau\, and welcome to the second installment of Ascension. We invite you tn’t afford the tri \n\n\n\n \n\n\n\n \n\n\n\np to space? We got you covered\, the system is ready to send you on a one way trip to the astral realm. \n\n\n\nWe kindly ask that you respect the venue\, the sound system\, and especially each other. It’s important to us that we create a safe\, inclusive\, and fun environment for everyone involved in this event. We have ZERO tolerance for any negative behaviour that may detrimentally impact someone else’s night. Any behaviour of this nature will result in removal from the venue. \n\n\n\nSee you in the dance! \n\n\n\nLine Up: \n\n\n\n\n\nClick Me\n\n\n\n\n\n8pm: C.J.X.R (opening set) \n\n\n\n \n\n\n\n9pm: Turnzk (Tech House) \n\n\n\n \n\n\n\n10pm: Weka Tek (Prod set) \n\n\n\n \n\n\n\n11pm: Laneo (Psy Tech) \n\n\n\n \n\n\n\n12am: BuzzLightyeah (Prog) \n\n\n\n \n\n\n\n1am: Tobias Glitch (Prog / Bass) \n\n\n\n \n\n\n\n2am: Venue close \n\n
URL:https://soundsgood.guide/gig/ascension-v2-0/
LOCATION:Galaxy Bar\, 206 Barbadoes Street\, New Zealand
CATEGORIES:Gig
ATTACH;FMTTYPE=image/jpeg:https://soundsgood.guide/wp-content/uploads/2025/06/503224958_122185927460051442_2085003623426174829_n.jpg
END:VEVENT
END:VCALENDAR