BEGIN:VCALENDAR
VERSION:2.0
PRODID:-//SoundsGood - ECPv4.9.4//NONSGML v1.0//EN
CALSCALE:GREGORIAN
METHOD:PUBLISH
X-WR-CALNAME:SoundsGood
X-ORIGINAL-URL:https://soundsgood.guide
X-WR-CALDESC:Events for SoundsGood
BEGIN:VTIMEZONE
TZID:"Pacific/Auckland"
BEGIN:STANDARD
TZOFFSETFROM:+1300
TZOFFSETTO:+1200
TZNAME:NZST
DTSTART:20240406T140000
END:STANDARD
BEGIN:DAYLIGHT
TZOFFSETFROM:+1200
TZOFFSETTO:+1300
TZNAME:NZDT
DTSTART:20240928T140000
END:DAYLIGHT
END:VTIMEZONE
BEGIN:VEVENT
DTSTART;TZID="Pacific/Auckland":20240921T200000
DTEND;TZID="Pacific/Auckland":20240922T010000
DTSTAMP:20260423T024122
CREATED:20240916T225136Z
LAST-MODIFIED:20240916T225136Z
UID:23675-1726948800-1726966800@soundsgood.guide
SUMMARY:Automatic\, Coalesce\, Dub Styles\, Rosa
DESCRIPTION:This September\, we welcome back a few flux favourites to the turf for a night of Drum n Bass and Jungle \n  \nAutomatic continuing a hot streak after recent releases on Soul in Motion and an impressive and controlled support set for FD will be putting forward his intricate sound.  \nPlus long time Flux friends and legendary community contributors Dub Styles and Rosa who will also combining with their duo Coalesce (old school drum n bass with live vocals).  \n  \nAutomatic\, Coalesce\, Dub Styles\, Rosa \nSaturday 21st of September  \n8pm-1am \nFlux  \n
URL:https://soundsgood.guide/gig/automatic-coalesce-dub-styles-rosa/
LOCATION:FLUX\, 270 St Asaph Street\, Christchurch\, New Zealand
CATEGORIES:DJ Night
ATTACH;FMTTYPE=image/png:https://soundsgood.guide/wp-content/uploads/2024/09/Screenshot-2024-09-17-105115.png
END:VEVENT
END:VCALENDAR