BEGIN:VCALENDAR
VERSION:2.0
PRODID:-//SoundsGood - ECPv4.9.4//NONSGML v1.0//EN
CALSCALE:GREGORIAN
METHOD:PUBLISH
X-WR-CALNAME:SoundsGood
X-ORIGINAL-URL:https://soundsgood.guide
X-WR-CALDESC:Events for SoundsGood
BEGIN:VTIMEZONE
TZID:"Pacific/Auckland"
BEGIN:STANDARD
TZOFFSETFROM:+1300
TZOFFSETTO:+1200
TZNAME:NZST
DTSTART:20250405T140000
END:STANDARD
BEGIN:DAYLIGHT
TZOFFSETFROM:+1200
TZOFFSETTO:+1300
TZNAME:NZDT
DTSTART:20250927T140000
END:DAYLIGHT
END:VTIMEZONE
BEGIN:VEVENT
DTSTART;TZID="Pacific/Auckland":20250425T200000
DTEND;TZID="Pacific/Auckland":20250426T010000
DTSTAMP:20260425T014507
CREATED:20250422T015459Z
LAST-MODIFIED:20250422T015459Z
UID:25387-1745611200-1745629200@soundsgood.guide
SUMMARY:Back to the Jungle
DESCRIPTION:\n\n\n\n\nCALLING ALL JUNGLISTS!  \n  \nWe’re bringing a stacked lineup of fresh and veteran local heavyweights to give the astroturf a proper hammering once again. Expect heavy Amen breaks\, renegade snares & dutty basslines\, all powered by the mighty 103 Soundsystem! \n  \nŌtautahi’s underground scene has long embraced the spirit of Jungle\, from intimate pressure sessions to nights to swamping out in the bush. This April\, we’re paying tribute to the sound that started it all. It’s safe to say our local Junglist scene is most fierce and always ready to bring the heat!  \n  \nHosted by none other than Midnight Dubs—on the buttons since ’99\, and a foundational figure in Ōtautahi’s jungle scene. He’s mentored countless DJs and producers\, passing down knowledge\, records\, and the kind of wisdom you don’t find in YouTube tutorials. A true stalwart of the culture. \nWe’re going back to the jungle\, and you’re coming with us! \n  \nFEATURING: \n🔸 MIDNIGHT DUBS \n🔸 PAZ – QUAKE \n🔸 INFORDIN B2B DENZIL THE SOULTAKER \n  \nBACK TO THE JUNGLE \nFriday\, April 25th \nFLUX \n8PM – 1AM \n\n\n\n\n\n\n\n\n\n\n\n\n
URL:https://soundsgood.guide/gig/back-to-the-jungle-4/
LOCATION:FLUX\, 270 St Asaph Street\, Christchurch\, New Zealand
CATEGORIES:DJ Night
ATTACH;FMTTYPE=image/png:https://soundsgood.guide/wp-content/uploads/2025/04/Screenshot-2025-04-22-135441.png
END:VEVENT
END:VCALENDAR