BEGIN:VCALENDAR
VERSION:2.0
PRODID:-//SoundsGood - ECPv4.9.4//NONSGML v1.0//EN
CALSCALE:GREGORIAN
METHOD:PUBLISH
X-WR-CALNAME:SoundsGood
X-ORIGINAL-URL:https://soundsgood.guide
X-WR-CALDESC:Events for SoundsGood
BEGIN:VTIMEZONE
TZID:"Pacific/Auckland"
BEGIN:STANDARD
TZOFFSETFROM:+1300
TZOFFSETTO:+1200
TZNAME:NZST
DTSTART:20240406T140000
END:STANDARD
BEGIN:DAYLIGHT
TZOFFSETFROM:+1200
TZOFFSETTO:+1300
TZNAME:NZDT
DTSTART:20240928T140000
END:DAYLIGHT
END:VTIMEZONE
BEGIN:VEVENT
DTSTART;TZID="Pacific/Auckland":20241214T200000
DTEND;TZID="Pacific/Auckland":20241214T230000
DTSTAMP:20260421T114420
CREATED:20241208T200019Z
LAST-MODIFIED:20241208T200019Z
UID:24274-1734206400-1734217200@soundsgood.guide
SUMMARY:Bekah's Buddies: Volume IV
DESCRIPTION:Bekah’s Buddies is back with another stacked line up! This time Big John’s House\, Lemonridge\, Pixie Platoon\, and Seraphim are all set to take to the stage! \nEntry is via donation of non-perishable food items\, good condition second hand clothing\, items to help new parents like nappies etc\, or cash donations are welcome too.\nMonetary donations will go to Cholmondely\, while other items will head to local food banks. \nSat Dec 14th\n8pm doors\nR18. R.O.A.R. \n
URL:https://soundsgood.guide/gig/bekahs-buddies-volume-iv/
LOCATION:Darkroom\, 336 St Asaph Street\, Christchurch\, Canterbury\, New Zealand
ATTACH;FMTTYPE=image/jpeg:https://soundsgood.guide/wp-content/uploads/2024/12/bekahs.jpg
ORGANIZER;CN="Darkroom":MAILTO:info@darkroom.bar
END:VEVENT
END:VCALENDAR