BEGIN:VCALENDAR
VERSION:2.0
PRODID:-//SoundsGood - ECPv4.9.4//NONSGML v1.0//EN
CALSCALE:GREGORIAN
METHOD:PUBLISH
X-WR-CALNAME:SoundsGood
X-ORIGINAL-URL:https://soundsgood.guide
X-WR-CALDESC:Events for SoundsGood
BEGIN:VTIMEZONE
TZID:"Pacific/Auckland"
BEGIN:STANDARD
TZOFFSETFROM:+1300
TZOFFSETTO:+1200
TZNAME:NZST
DTSTART:20240406T140000
END:STANDARD
BEGIN:DAYLIGHT
TZOFFSETFROM:+1200
TZOFFSETTO:+1300
TZNAME:NZDT
DTSTART:20240928T140000
END:DAYLIGHT
END:VTIMEZONE
BEGIN:VEVENT
DTSTART;TZID="Pacific/Auckland":20240811T150000
DTEND;TZID="Pacific/Auckland":20240811T180000
DTSTAMP:20260425T210625
CREATED:20240609T213045Z
LAST-MODIFIED:20240609T213045Z
UID:22788-1723388400-1723399200@soundsgood.guide
SUMMARY:Bella Shands
DESCRIPTION:Awesome sounds and great vibes comes with Bella\, she has played in our Nelson bar and now it’s time for her to bring her sounds to Colombo Street. \n
URL:https://soundsgood.guide/gig/bella-shands-2/
LOCATION:Two Thumb Brewing – Colombo Street\, 380 Colombo Street\, Christchurch\, New Zealand
CATEGORIES:Gig
ATTACH;FMTTYPE=image/png:https://soundsgood.guide/wp-content/uploads/2024/04/89709-952870.png
END:VEVENT
END:VCALENDAR