BEGIN:VCALENDAR
VERSION:2.0
PRODID:-//SoundsGood - ECPv4.9.4//NONSGML v1.0//EN
CALSCALE:GREGORIAN
METHOD:PUBLISH
X-WR-CALNAME:SoundsGood
X-ORIGINAL-URL:https://soundsgood.guide
X-WR-CALDESC:Events for SoundsGood
BEGIN:VTIMEZONE
TZID:"Pacific/Auckland"
BEGIN:STANDARD
TZOFFSETFROM:+1300
TZOFFSETTO:+1200
TZNAME:NZST
DTSTART:20240406T140000
END:STANDARD
BEGIN:DAYLIGHT
TZOFFSETFROM:+1200
TZOFFSETTO:+1300
TZNAME:NZDT
DTSTART:20240928T140000
END:DAYLIGHT
END:VTIMEZONE
BEGIN:VEVENT
DTSTART;TZID="Pacific/Auckland":20240726T220000
DTEND;TZID="Pacific/Auckland":20240727T030000
DTSTAMP:20260422T110519
CREATED:20240714T212506Z
LAST-MODIFIED:20240714T212506Z
UID:23145-1722031200-1722049200@soundsgood.guide
SUMMARY:Censored Events Presents: 03 Round Up
DESCRIPTION:Censored Events proudly presents ‘03 Round Up’ \nHide Club | 172 St Asaph Street\, 26th July | 10:00pm – 3:00am \nThe first installation of our new club night showcasing Ōtautahi’s talent in a multi-genre format so you can expect everything from 120-175bpm.  \n’03 Round Up’ Artists:  \n– Boasteeze \n– Cuffy \n– Fairbrother \n– Haarn \n– Joyce \n– LD & JC \n– Nova \n– Signal \n– Thorn \nTickets are now on sale starting at $10. Support your local artists! \n
URL:https://soundsgood.guide/gig/censored-events-presents-03-round-up/
LOCATION:Hide\, 172 St Asaph Street\, Christchurch\, 8011\, NZ
CATEGORIES:DJ Night
ATTACH;FMTTYPE=image/png:https://soundsgood.guide/wp-content/uploads/2024/07/Screenshot-2024-07-15-092441.png
END:VEVENT
END:VCALENDAR