BEGIN:VCALENDAR
VERSION:2.0
PRODID:-//SoundsGood - ECPv4.9.4//NONSGML v1.0//EN
CALSCALE:GREGORIAN
METHOD:PUBLISH
X-WR-CALNAME:SoundsGood
X-ORIGINAL-URL:https://soundsgood.guide
X-WR-CALDESC:Events for SoundsGood
BEGIN:VTIMEZONE
TZID:"Pacific/Auckland"
BEGIN:STANDARD
TZOFFSETFROM:+1300
TZOFFSETTO:+1200
TZNAME:NZST
DTSTART:20240406T140000
END:STANDARD
BEGIN:DAYLIGHT
TZOFFSETFROM:+1200
TZOFFSETTO:+1300
TZNAME:NZDT
DTSTART:20240928T140000
END:DAYLIGHT
END:VTIMEZONE
BEGIN:VEVENT
DTSTART;TZID="Pacific/Auckland":20240928T210000
DTEND;TZID="Pacific/Auckland":20240929T020000
DTSTAMP:20260421T113328
CREATED:20240909T003630Z
LAST-MODIFIED:20240909T003630Z
UID:23581-1727557200-1727575200@soundsgood.guide
SUMMARY:Chief remedy sound system PRESSURE SESSIONS 13
DESCRIPTION:PRESSURE SESSIONS 13 \n7 inch/45 Vinyl record special! \nThe crew will be digging deep into their 7′ record collection for this one. 0% digital music\, It’s a 45/7′ record on the turnie or your money back guaranteed! \nExpect everything from sweet Roots Reggae selections\, Version juggling 90’s dancehall sets and ZamZam Sounds dubstep/dubwize mixes to name a few as we utilize this small but mighty format in all possible variations and vibarations 🔥 Full crew\, Full soundsystem alongside Mr Tamati on the mic. \nGalaxy Bar\nTickets via comic \n
URL:https://soundsgood.guide/gig/chief-remedy-sound-system-pressure-sessions-13/
LOCATION:Galaxy Bar\, 206 Barbadoes Street\, New Zealand
CATEGORIES:DJ Night
ATTACH;FMTTYPE=image/jpeg:https://soundsgood.guide/wp-content/uploads/2024/09/d6f615fa36afb49a954793d27e311b42.jpg
END:VEVENT
END:VCALENDAR