BEGIN:VCALENDAR
VERSION:2.0
PRODID:-//SoundsGood - ECPv4.9.4//NONSGML v1.0//EN
CALSCALE:GREGORIAN
METHOD:PUBLISH
X-WR-CALNAME:SoundsGood
X-ORIGINAL-URL:https://soundsgood.guide
X-WR-CALDESC:Events for SoundsGood
BEGIN:VTIMEZONE
TZID:"Pacific/Auckland"
BEGIN:STANDARD
TZOFFSETFROM:+1300
TZOFFSETTO:+1200
TZNAME:NZST
DTSTART:20240406T140000
END:STANDARD
BEGIN:DAYLIGHT
TZOFFSETFROM:+1200
TZOFFSETTO:+1300
TZNAME:NZDT
DTSTART:20240928T140000
END:DAYLIGHT
END:VTIMEZONE
BEGIN:VEVENT
DTSTART;TZID="Pacific/Auckland":20241220T200000
DTEND;TZID="Pacific/Auckland":20241221T010000
DTSTAMP:20260421T154100
CREATED:20241201T221244Z
LAST-MODIFIED:20241201T221244Z
UID:24249-1734724800-1734742800@soundsgood.guide
SUMMARY:Christmas at Flux
DESCRIPTION:As we approach the end of another year\, we thought we’d celebrate with a big dance including a handful of some of our favourite selectors\, contributors and characters.  \n  \nJoyce b2b MEAD \nKate.Land b2b Pentaloe \nFantasia Corp \nWaewaexpress b2b Elphee \nTikka b2b Trivial \n  \nChristmas at Flux \nFriday 20th of December \n8pm-1am \n  \nTickets from $10 +bf \n
URL:https://soundsgood.guide/gig/christmas-at-flux/
LOCATION:FLUX\, 270 St Asaph Street\, Christchurch\, New Zealand
CATEGORIES:DJ Night
ATTACH;FMTTYPE=image/png:https://soundsgood.guide/wp-content/uploads/2024/12/Screenshot-2024-12-02-111227.png
END:VEVENT
END:VCALENDAR