BEGIN:VCALENDAR
VERSION:2.0
PRODID:-//SoundsGood - ECPv4.9.4//NONSGML v1.0//EN
CALSCALE:GREGORIAN
METHOD:PUBLISH
X-WR-CALNAME:SoundsGood
X-ORIGINAL-URL:https://soundsgood.guide
X-WR-CALDESC:Events for SoundsGood
BEGIN:VTIMEZONE
TZID:"Pacific/Auckland"
BEGIN:STANDARD
TZOFFSETFROM:+1300
TZOFFSETTO:+1200
TZNAME:NZST
DTSTART:20240406T140000
END:STANDARD
BEGIN:DAYLIGHT
TZOFFSETFROM:+1200
TZOFFSETTO:+1300
TZNAME:NZDT
DTSTART:20240928T140000
END:DAYLIGHT
END:VTIMEZONE
BEGIN:VEVENT
DTSTART;TZID="Pacific/Auckland":20240601T203000
DTEND;TZID="Pacific/Auckland":20240601T233000
DTSTAMP:20260421T080655
CREATED:20240505T212537Z
LAST-MODIFIED:20240505T212537Z
UID:22400-1717273800-1717284600@soundsgood.guide
SUMMARY:Crash Bandihoot
DESCRIPTION:Christchurch!! \nKiwi favourites Crash Bandihoot finally head south for a huge first ever show in the chch area\, bringing their set of raucous New Orleans street style brass band music. \nExpect a colourful performance with soaring horns and driving rhythms\, from the group that have toured Australia twice\, stomped unforgettable parades at Cuba Dupa and Newtown Festivals\, rocked a 3500 strong crowd at Gardens Magic\, and been described by Under The Radar as Terrifying. \nCome and enjoy your long weekend with a bang with us! \nTickets – $15 Online / $20 On The Door \nA delight\, one of the highlights of the day – Newtown Festival \nYou monkeys are NUTS! BEST GIG EVER! – 5Tapped \nLegendary – Wellington Jazz Festival \n
URL:https://soundsgood.guide/gig/crash-bandihoot/
LOCATION:Wunderbar Lyttelton\, 19 London St\, Lyttelton\, 8082\, NZ
CATEGORIES:Gig
ATTACH;FMTTYPE=image/png:https://soundsgood.guide/wp-content/uploads/2024/05/89956-949975.png
END:VEVENT
END:VCALENDAR