BEGIN:VCALENDAR
VERSION:2.0
PRODID:-//SoundsGood - ECPv4.9.4//NONSGML v1.0//EN
CALSCALE:GREGORIAN
METHOD:PUBLISH
X-WR-CALNAME:SoundsGood
X-ORIGINAL-URL:https://soundsgood.guide
X-WR-CALDESC:Events for SoundsGood
BEGIN:VTIMEZONE
TZID:"Pacific/Auckland"
BEGIN:STANDARD
TZOFFSETFROM:+1300
TZOFFSETTO:+1200
TZNAME:NZST
DTSTART:20250405T140000
END:STANDARD
BEGIN:DAYLIGHT
TZOFFSETFROM:+1200
TZOFFSETTO:+1300
TZNAME:NZDT
DTSTART:20250927T140000
END:DAYLIGHT
END:VTIMEZONE
BEGIN:VEVENT
DTSTART;TZID="Pacific/Auckland":20250228T200000
DTEND;TZID="Pacific/Auckland":20250301T010000
DTSTAMP:20260426T032728
CREATED:20250216T235018Z
LAST-MODIFIED:20250216T235018Z
UID:24930-1740772800-1740790800@soundsgood.guide
SUMMARY:Crown Ruler Pres. Habibi Funk
DESCRIPTION:\n\n\n\n\n\n\n\n\n\nWith a knack for unearthing hidden gems released in the 1960’s-80’s across the Middle East and North Africa and spanning a plethora of genres from funk\, soul and jazz to punk and hip-hop; Jannis Stürtz’s Habibi Funk has been a musical staple for every environment\, from the record player at the bar to the one in your living room.  \n  \nReissuing the records in eclectic compilations for the modern listener\, as well as more recently releasing music from musicians in the current day\, Stürtz’s project celebrates it’s decade anniversary in 2025. A project originally conceived while record digging in Casablanca\, Morocco; his dedication to immortalising works that might have otherwise gone forgotten has fostered new connections and modalities of working in the music industry with efforts to not reproduce historic economic patterns of exploitation and colonisation. \n  \nSince the labels success\, Stürtz’s mastery as a vinyl only DJ has taken off in equal measure over recent years with major residencies at institutions such as the legendary Jazz Cafe\, Colour Factory\, KOKO and many more. \n\n\n\n\nTerms & Conditions\n\n\n\n\n\n\n\nSecure your tickets today!\n\nBuy tickets\n\n\n\n\n\n\n\n\n\n\n\n\n\n\n\n
URL:https://soundsgood.guide/gig/crown-ruler-pres-habibi-funk/
LOCATION:FLUX\, 270 St Asaph Street\, Christchurch\, New Zealand
CATEGORIES:Gig
ATTACH;FMTTYPE=image/png:https://soundsgood.guide/wp-content/uploads/2025/02/Screenshot-2025-02-17-125001.png
END:VEVENT
END:VCALENDAR