BEGIN:VCALENDAR
VERSION:2.0
PRODID:-//SoundsGood - ECPv4.9.4//NONSGML v1.0//EN
CALSCALE:GREGORIAN
METHOD:PUBLISH
X-WR-CALNAME:SoundsGood
X-ORIGINAL-URL:https://soundsgood.guide
X-WR-CALDESC:Events for SoundsGood
BEGIN:VTIMEZONE
TZID:"Pacific/Auckland"
BEGIN:STANDARD
TZOFFSETFROM:+1300
TZOFFSETTO:+1200
TZNAME:NZST
DTSTART:20240406T140000
END:STANDARD
BEGIN:DAYLIGHT
TZOFFSETFROM:+1200
TZOFFSETTO:+1300
TZNAME:NZDT
DTSTART:20240928T140000
END:DAYLIGHT
END:VTIMEZONE
BEGIN:VEVENT
DTSTART;TZID="Pacific/Auckland":20240825T193000
DTEND;TZID="Pacific/Auckland":20240825T230000
DTSTAMP:20260421T115836
CREATED:20240805T012220Z
LAST-MODIFIED:20240805T012220Z
UID:23314-1724614200-1724626800@soundsgood.guide
SUMMARY:Dan Madill and Violet French Sing Big Jamie Little
DESCRIPTION:Daniel Madill and Violet French\, both from the icy depths of Otepoti Dunedin\, channel the great “Southern Storyteller” through the voice of Big Jamie Little. \nSongs of love\, loss and living off the land\, tell the tale of days gone by. \nFrench and Madill aim to make the stories of Southland and Otago alive once more\, through the influence of Little. \n
URL:https://soundsgood.guide/gig/dan-madill-and-violet-french-sing-big-jamie-little/
LOCATION:Space Academy\, 371 St Asaph St\, Christchurch\, 8011\, New Zealand
CATEGORIES:Gig
ATTACH;FMTTYPE=image/jpeg:https://soundsgood.guide/wp-content/uploads/2024/08/91535-257149.jpeg
END:VEVENT
END:VCALENDAR