BEGIN:VCALENDAR
VERSION:2.0
PRODID:-//SoundsGood - ECPv4.9.4//NONSGML v1.0//EN
CALSCALE:GREGORIAN
METHOD:PUBLISH
X-WR-CALNAME:SoundsGood
X-ORIGINAL-URL:https://soundsgood.guide
X-WR-CALDESC:Events for SoundsGood
BEGIN:VTIMEZONE
TZID:"Pacific/Auckland"
BEGIN:STANDARD
TZOFFSETFROM:+1300
TZOFFSETTO:+1200
TZNAME:NZST
DTSTART:20250405T140000
END:STANDARD
BEGIN:DAYLIGHT
TZOFFSETFROM:+1200
TZOFFSETTO:+1300
TZNAME:NZDT
DTSTART:20250927T140000
END:DAYLIGHT
END:VTIMEZONE
BEGIN:VEVENT
DTSTART;TZID="Pacific/Auckland":20250808T200000
DTEND;TZID="Pacific/Auckland":20250808T230000
DTSTAMP:20260420T015433
CREATED:20250731T214117Z
LAST-MODIFIED:20250731T214117Z
UID:26053-1754683200-1754694000@soundsgood.guide
SUMMARY:Darkroom Fundraiser with The Wendys\, Sentient Mud & Paperwaves
DESCRIPTION:Join us on Friday August 8th for a Darkroom Fundraiser Gig! \nSaving us from drowning in bills we’ve got our fave lifeguards THE WENDYS\, banjo-rockers SENTIENT MUD\, plus our new friends PAPERWAVES who will be playing their debut gig!! \nDoors open 8pm\nMusic from 8:30pm \n$15 unwaged / $20 waged tickets from UTR\, grab yours here: https://www.undertheradar.co.nz/gig/97442/Darkroom-Fundraiser-With-Paperwaves-The-Wendys-and-Sentient-Mud.utr \nDoor sales available on the night for $25 if not sold out prior \nR18. R.O.A.R. \nDarkroom has never been a money-maker of a venture but has plodded along making enough money to break even and keep on top of our usual operational expenses. This year has been a bit different\, with income down on previous years but all of our costs (from electricity to insurance to accountant fees and everything in between) all going up – we’ve been falling a bit short\, especially through the quieter winter months. \nWe don’t want to keep putting our menu prices up\, or only book bands that draw big drinking crowds\, or start charging venue hire – so instead we are running a fundraiser gig where we can put the ticket money towards some of our big bills (things like our $3000 APRA/OneMusic license fees to host live music and play music in the background\, our $3000 insurance bill\, and our $800p/m winter power bill). \nDarkroom was born from the earthquakes\, recovered under new ownership after one of its first owners went bankrupt\, made it though covid\, and is now navigating new challenges as the cityscape changes around us leading to tensions with our new residential neighbours over noise. With promising PC21 changes proposed\, we think Darkroom’s got some life left in her yet – if we can just get through this winter ❤\nThanks for all your love and support over the years ❤ \n
URL:https://soundsgood.guide/gig/darkroom-fundraiser-with-the-wendys-sentient-mud-paperwaves/
LOCATION:Darkroom\, 336 St Asaph Street\, Christchurch\, Canterbury\, New Zealand
ATTACH;FMTTYPE=image/jpeg:https://soundsgood.guide/wp-content/uploads/2025/07/Darkroom-Fundraiser-1-1.jpg
ORGANIZER;CN="Darkroom":MAILTO:info@darkroom.bar
END:VEVENT
END:VCALENDAR