BEGIN:VCALENDAR
VERSION:2.0
PRODID:-//SoundsGood - ECPv4.9.4//NONSGML v1.0//EN
CALSCALE:GREGORIAN
METHOD:PUBLISH
X-WR-CALNAME:SoundsGood
X-ORIGINAL-URL:https://soundsgood.guide
X-WR-CALDESC:Events for SoundsGood
BEGIN:VTIMEZONE
TZID:"Pacific/Auckland"
BEGIN:STANDARD
TZOFFSETFROM:+1300
TZOFFSETTO:+1200
TZNAME:NZST
DTSTART:20250405T140000
END:STANDARD
BEGIN:DAYLIGHT
TZOFFSETFROM:+1200
TZOFFSETTO:+1300
TZNAME:NZDT
DTSTART:20250927T140000
END:DAYLIGHT
END:VTIMEZONE
BEGIN:VEVENT
DTSTART;TZID="Pacific/Auckland":20251031T203000
DTEND;TZID="Pacific/Auckland":20251031T223000
DTSTAMP:20260421T102311
CREATED:20251028T025007Z
LAST-MODIFIED:20251028T025007Z
UID:26401-1761942600-1761949800@soundsgood.guide
SUMMARY:Darkroom Halloween Special 2025
DESCRIPTION:It’s time for the 7th annual Darkroom Halloween Special! \nThis year’s line up includes wholesome family band Moider Mother\, alongside newcomers Crimson Echoes\, and Maximum Wage! \nDress ups are encouraged\, with bar tabs to be won for best dressed! \nFri Oct 31st\nPresale tickets start at just $10 \nDoors 8pm\nFirst band 8:30pm\nR18. R.O.A.R. \n
URL:https://soundsgood.guide/gig/darkroom-halloween-special-2025/
LOCATION:darkroom\, 336 St. Asaph St\, Christchurch\, 8011\, New Zealand
CATEGORIES:Gig
ATTACH;FMTTYPE=image/png:https://soundsgood.guide/wp-content/uploads/2025/10/98924-815471.png
END:VEVENT
END:VCALENDAR