BEGIN:VCALENDAR
VERSION:2.0
PRODID:-//SoundsGood - ECPv4.9.4//NONSGML v1.0//EN
CALSCALE:GREGORIAN
METHOD:PUBLISH
X-WR-CALNAME:SoundsGood
X-ORIGINAL-URL:https://soundsgood.guide
X-WR-CALDESC:Events for SoundsGood
BEGIN:VTIMEZONE
TZID:"Pacific/Auckland"
BEGIN:STANDARD
TZOFFSETFROM:+1300
TZOFFSETTO:+1200
TZNAME:NZST
DTSTART:20240406T140000
END:STANDARD
BEGIN:DAYLIGHT
TZOFFSETFROM:+1200
TZOFFSETTO:+1300
TZNAME:NZDT
DTSTART:20240928T140000
END:DAYLIGHT
END:VTIMEZONE
BEGIN:VEVENT
DTSTART;TZID="Pacific/Auckland":20240308T200000
DTEND;TZID="Pacific/Auckland":20240308T233000
DTSTAMP:20260425T204543
CREATED:20240211T204628Z
LAST-MODIFIED:20240211T204628Z
UID:21396-1709928000-1709940600@soundsgood.guide
SUMMARY:Di-lemma
DESCRIPTION:Indie-pop duo Hugh and Hannah bring their quintessential Di-lemma sound to Space Academy for one night only! \nWith a unique mixture of ages\, influences and styles\, Di-lemma creates a beautiful alternative-indie sound. \nAfter their last sell-out show\, bookings are recommended. \n
URL:https://soundsgood.guide/gig/di-lemma/
LOCATION:Space Academy\, 371 St Asaph St\, Christchurch\, 8011\, New Zealand
CATEGORIES:Gig
ATTACH;FMTTYPE=image/png:https://soundsgood.guide/wp-content/uploads/2024/02/88425-843641.png
END:VEVENT
END:VCALENDAR