BEGIN:VCALENDAR
VERSION:2.0
PRODID:-//SoundsGood - ECPv4.9.4//NONSGML v1.0//EN
CALSCALE:GREGORIAN
METHOD:PUBLISH
X-WR-CALNAME:SoundsGood
X-ORIGINAL-URL:https://soundsgood.guide
X-WR-CALDESC:Events for SoundsGood
BEGIN:VTIMEZONE
TZID:"Pacific/Auckland"
BEGIN:STANDARD
TZOFFSETFROM:+1300
TZOFFSETTO:+1200
TZNAME:NZST
DTSTART:20240406T140000
END:STANDARD
BEGIN:DAYLIGHT
TZOFFSETFROM:+1200
TZOFFSETTO:+1300
TZNAME:NZDT
DTSTART:20240928T140000
END:DAYLIGHT
END:VTIMEZONE
BEGIN:VEVENT
DTSTART;TZID="Pacific/Auckland":20241108T190000
DTEND;TZID="Pacific/Auckland":20241108T220000
DTSTAMP:20260422T072441
CREATED:20240929T205058Z
LAST-MODIFIED:20240929T205058Z
UID:23764-1731092400-1731103200@soundsgood.guide
SUMMARY:Dillastrate
DESCRIPTION:Dillastrate + Friends Live at Blue Smoke! The legends at Blue Smoke are opening the venue just for this event\, and to make it worthwhile\, we will be playing a brand new 2-hour-long set with new music and new looks! We are going to be featuring some of our favorite friends\, who we will be announcing closer to the time. \nWe also know times are tough at the moment with the cost of living\, so with the help of some awesome sponsorship\, we will be selling tickets at a more affordable rate while bringing you a show that’s bigger and better than we have ever done! Early Birds will be $15\, and GA will be $20 (plus BF). \nCome party with us! \nDoors at 7 PM! \n
URL:https://soundsgood.guide/gig/dillastrate-2/
LOCATION:Blue Smoke
CATEGORIES:Gig
ATTACH;FMTTYPE=image/png:https://soundsgood.guide/wp-content/uploads/2024/09/92535-883667.png
END:VEVENT
END:VCALENDAR