BEGIN:VCALENDAR
VERSION:2.0
PRODID:-//SoundsGood - ECPv4.9.4//NONSGML v1.0//EN
CALSCALE:GREGORIAN
METHOD:PUBLISH
X-WR-CALNAME:SoundsGood
X-ORIGINAL-URL:https://soundsgood.guide
X-WR-CALDESC:Events for SoundsGood
BEGIN:VTIMEZONE
TZID:"Pacific/Auckland"
BEGIN:STANDARD
TZOFFSETFROM:+1300
TZOFFSETTO:+1200
TZNAME:NZST
DTSTART:20250405T140000
END:STANDARD
BEGIN:DAYLIGHT
TZOFFSETFROM:+1200
TZOFFSETTO:+1300
TZNAME:NZDT
DTSTART:20250927T140000
END:DAYLIGHT
END:VTIMEZONE
BEGIN:VEVENT
DTSTART;TZID="Pacific/Auckland":20250620T203000
DTEND;TZID="Pacific/Auckland":20250620T230000
DTSTAMP:20260421T124158
CREATED:20250519T024856Z
LAST-MODIFIED:20250519T024856Z
UID:25614-1750451400-1750460400@soundsgood.guide
SUMMARY:Distance Final Show - w/ Fvkvshima\, Ragweed and No Broadcast
DESCRIPTION:final riffs\, final verb\nsee ya there 🙂 \n
URL:https://soundsgood.guide/gig/distance-final-show-w-fvkvshima-ragweed-and-no-broadcast/
LOCATION:A Rolling Stone\, 579 Colombo Street\, Christchurch\, Canterbury\, 8011\, New Zealand
CATEGORIES:Concert
ATTACH;FMTTYPE=image/jpeg:https://soundsgood.guide/wp-content/uploads/2025/05/96239-310395.jpg
END:VEVENT
END:VCALENDAR