BEGIN:VCALENDAR
VERSION:2.0
PRODID:-//SoundsGood - ECPv4.9.4//NONSGML v1.0//EN
CALSCALE:GREGORIAN
METHOD:PUBLISH
X-WR-CALNAME:SoundsGood
X-ORIGINAL-URL:https://soundsgood.guide
X-WR-CALDESC:Events for SoundsGood
BEGIN:VTIMEZONE
TZID:"Pacific/Auckland"
BEGIN:STANDARD
TZOFFSETFROM:+1300
TZOFFSETTO:+1200
TZNAME:NZST
DTSTART:20240406T140000
END:STANDARD
BEGIN:DAYLIGHT
TZOFFSETFROM:+1200
TZOFFSETTO:+1300
TZNAME:NZDT
DTSTART:20240928T140000
END:DAYLIGHT
END:VTIMEZONE
BEGIN:VEVENT
DTSTART;TZID="Pacific/Auckland":20241213T200000
DTEND;TZID="Pacific/Auckland":20241214T010000
DTSTAMP:20260421T112926
CREATED:20241124T200321Z
LAST-MODIFIED:20241124T200321Z
UID:24219-1734120000-1734138000@soundsgood.guide
SUMMARY:DOCJOC
DESCRIPTION:Returning to the stage after the recent success of his last four shows\, DOCJOC is back for a live show at Flux. This time bigger and better\, the show will feature visuals from Offline Collective and MC Moz all the way from England joining the stage. This will be one you wont want to miss. \n  \nIn 2022\, DOCJOC (Jono) ignited his passion for melding live acoustic drums with computer and DJ-dominated music genres\, like drum and bass\, sparked by his older brother’s idea. Inspired by the use of 60s funk drum solos in contemporary drum and bass tracks\, Jono aimed to replicate them live on his drum kit. After a year of refining his concept\, he debuted his groundbreaking live show at the Darkroom\, blending iconic drum and bass tunes with his drumming prowess. After 3 successful gigs in 2024\, DOCJOC returns to FLUX for a final performance before the year closes. \n  \nDon’t miss this up-and-coming act.With support from Deathworks\, Carlos & Baillie \n  \nTickets \n  \nEarly Bird – $15 \nGA- $20 \nDoors – $25 \n  \nFriday 13th of December \n8pm – 1am \nFlux \n
URL:https://soundsgood.guide/gig/docjoc-2/
LOCATION:FLUX\, 270 St Asaph Street\, Christchurch\, New Zealand
CATEGORIES:DJ Night
ATTACH;FMTTYPE=image/png:https://soundsgood.guide/wp-content/uploads/2024/11/Screenshot-2024-11-25-090304.png
END:VEVENT
END:VCALENDAR