BEGIN:VCALENDAR
VERSION:2.0
PRODID:-//SoundsGood - ECPv4.9.4//NONSGML v1.0//EN
CALSCALE:GREGORIAN
METHOD:PUBLISH
X-WR-CALNAME:SoundsGood
X-ORIGINAL-URL:https://soundsgood.guide
X-WR-CALDESC:Events for SoundsGood
BEGIN:VTIMEZONE
TZID:"Pacific/Auckland"
BEGIN:STANDARD
TZOFFSETFROM:+1300
TZOFFSETTO:+1200
TZNAME:NZST
DTSTART:20240406T140000
END:STANDARD
BEGIN:DAYLIGHT
TZOFFSETFROM:+1200
TZOFFSETTO:+1300
TZNAME:NZDT
DTSTART:20240928T140000
END:DAYLIGHT
END:VTIMEZONE
BEGIN:VEVENT
DTSTART;TZID="Pacific/Auckland":20241024T210000
DTEND;TZID="Pacific/Auckland":20241024T233000
DTSTAMP:20260422T142347
CREATED:20240929T204916Z
LAST-MODIFIED:20240929T204916Z
UID:23761-1729803600-1729812600@soundsgood.guide
SUMMARY:Dr. Bloopenstein Presents: Uncle Krungo's Cosmic Steakhouse!
DESCRIPTION:Dr. Bloopenstein’s last experiment left him perplexed. He knew he needed to make another voyage through the void in order to truly understand the potential of Bongle Energy. This led Dr. Bloopenstein on a one month drift through the cosmos\, jumping from dimension to dimension in hopes of finding the missing piece that will allow him to unlock Bongle Energy once and for all. \nBut a doctor’s got to eat\, and one month is a long ass time to go without sustenance. Where on Earth am I going to find something to eat around here? The doctor murmurs to himself as his tummy begins to growl insults and berate him severely. That’s when he saw the neon lights and smelled the incredible aromas of what he thought were juicy steaks. Surely he’s not seeing a drive-thru in the middle of space… Right? \nDr. Bloopenstein Presents Uncle Krungo’s Cosmic Steakhouse! \nIn his latest experiment\, the doctor is stepping away from the beakers and picking up the spatula. Having been so encapsulated by the delectable flavours of Uncle Krungo’s Cosmic Steakhouse\, he knew he had to share his newfound love with humanity. \nSupport & Set times TBA \n
URL:https://soundsgood.guide/gig/dr-bloopenstein-presents-uncle-krungos-cosmic-steakhouse/
LOCATION:darkroom\, 336 St. Asaph St\, Christchurch\, 8011\, New Zealand
CATEGORIES:Gig,Release
ATTACH;FMTTYPE=image/png:https://soundsgood.guide/wp-content/uploads/2024/09/92534-508391.png
END:VEVENT
END:VCALENDAR