BEGIN:VCALENDAR
VERSION:2.0
PRODID:-//SoundsGood - ECPv4.9.4//NONSGML v1.0//EN
CALSCALE:GREGORIAN
METHOD:PUBLISH
X-WR-CALNAME:SoundsGood
X-ORIGINAL-URL:https://soundsgood.guide
X-WR-CALDESC:Events for SoundsGood
BEGIN:VTIMEZONE
TZID:"Pacific/Auckland"
BEGIN:STANDARD
TZOFFSETFROM:+1300
TZOFFSETTO:+1200
TZNAME:NZST
DTSTART:20250405T140000
END:STANDARD
BEGIN:DAYLIGHT
TZOFFSETFROM:+1200
TZOFFSETTO:+1300
TZNAME:NZDT
DTSTART:20250927T140000
END:DAYLIGHT
END:VTIMEZONE
BEGIN:VEVENT
DTSTART;TZID="Pacific/Auckland":20251009T080000
DTEND;TZID="Pacific/Auckland":20251009T220000
DTSTAMP:20260420T000810
CREATED:20251005T230939Z
LAST-MODIFIED:20251005T230939Z
UID:26325-1759996800-1760047200@soundsgood.guide
SUMMARY:Drunk Mums
DESCRIPTION:Melbourne rockers Drunk Mums are making their long-awaited return to Aotearoa this October — their first visit in seven years\, last rocking Kiwi soil back in 2018.\nArmed with their fourth full-length record Beer Baby (2024)\, the four-piece garage-punk troublemakers are set to blast through six shows across the country\, tearing through Wellington\, Dunedin\, Christchurch\, Taupō\, Raglan\, and Auckland. The new tracks have already earned “instant classic” status with fans\, slotting seamlessly next to the band’s older chaos-inducing staples.\nWith over 60 originals stuffed under their beer guts and years of relentless gigging behind them\, Drunk Mums are tighter than ever — and louder too. Expect sweat\, riffs\, singalongs\, and aan epic dose of carnage. \nTickets are on sale now — don’t snooze\, or you’ll miss the chaos. \n
URL:https://soundsgood.guide/gig/drunk-mums/
LOCATION:Space Academy\, 371 St Asaph St\, Christchurch\, 8011\, New Zealand
CATEGORIES:Gig
ATTACH;FMTTYPE=image/jpeg:https://soundsgood.guide/wp-content/uploads/2025/10/98115-343285.jpg
END:VEVENT
END:VCALENDAR