BEGIN:VCALENDAR
VERSION:2.0
PRODID:-//SoundsGood - ECPv4.9.4//NONSGML v1.0//EN
CALSCALE:GREGORIAN
METHOD:PUBLISH
X-WR-CALNAME:SoundsGood
X-ORIGINAL-URL:https://soundsgood.guide
X-WR-CALDESC:Events for SoundsGood
BEGIN:VTIMEZONE
TZID:"Pacific/Auckland"
BEGIN:STANDARD
TZOFFSETFROM:+1300
TZOFFSETTO:+1200
TZNAME:NZST
DTSTART:20240406T140000
END:STANDARD
BEGIN:DAYLIGHT
TZOFFSETFROM:+1200
TZOFFSETTO:+1300
TZNAME:NZDT
DTSTART:20240928T140000
END:DAYLIGHT
END:VTIMEZONE
BEGIN:VEVENT
DTSTART;TZID="Pacific/Auckland":20240713T200000
DTEND;TZID="Pacific/Auckland":20240714T010000
DTSTAMP:20260422T160731
CREATED:20240707T212129Z
LAST-MODIFIED:20240707T212129Z
UID:23101-1720900800-1720918800@soundsgood.guide
SUMMARY:Dubs with DoL
DESCRIPTION:DoL presents: Dubs with DoL – Volume 1. \n  \nFrom the dark depths of Ōtepoti to the flat plains of Ōtautahi\, DoL’s seed was planted in 2019. Inspired by the simple living of student life\, our foundations have been built off connections and some memorable moments with our whānau around us. \n  \nThis night has been curated to throw down some of the dub and dubstep styles we love oh so very much. Joining us on this quest will be @ 103 Soundstystem – for all of your earway pleasures! \n  \nJoin us at FLux for a skank or two <3 \n  \nLine up: \n  \n– Cignal B2B OB1 \n– SlamUe’L \n– Oliver Prince \n– MJ \n  \nPlease be respectful to those around you and the venue. This show is a safe place for people to come and express themselves. \n  \nLook after yourself and enjoy the wubs! \n  \n– DoL \n
URL:https://soundsgood.guide/gig/dubs-with-dol/
LOCATION:FLUX\, 270 St Asaph Street\, Christchurch\, New Zealand
CATEGORIES:DJ Night
ATTACH;FMTTYPE=image/png:https://soundsgood.guide/wp-content/uploads/2024/07/Screenshot-2024-07-08-092112.png
END:VEVENT
END:VCALENDAR