BEGIN:VCALENDAR
VERSION:2.0
PRODID:-//SoundsGood - ECPv4.9.4//NONSGML v1.0//EN
CALSCALE:GREGORIAN
METHOD:PUBLISH
X-WR-CALNAME:SoundsGood
X-ORIGINAL-URL:https://soundsgood.guide
X-WR-CALDESC:Events for SoundsGood
BEGIN:VTIMEZONE
TZID:"Pacific/Auckland"
BEGIN:STANDARD
TZOFFSETFROM:+1300
TZOFFSETTO:+1200
TZNAME:NZST
DTSTART:20250405T140000
END:STANDARD
BEGIN:DAYLIGHT
TZOFFSETFROM:+1200
TZOFFSETTO:+1300
TZNAME:NZDT
DTSTART:20250927T140000
END:DAYLIGHT
END:VTIMEZONE
BEGIN:VEVENT
DTSTART;TZID="Pacific/Auckland":20251030T200000
DTEND;TZID="Pacific/Auckland":20251030T220000
DTSTAMP:20260421T104051
CREATED:20251028T023744Z
LAST-MODIFIED:20251028T023744Z
UID:26395-1761854400-1761861600@soundsgood.guide
SUMMARY:Dyschezia Tenesmus\, Herstot (akl)\, Les Fuzz Minou
DESCRIPTION:Join us this month from 8pm\, 30 Oct\, at darkroom for the return of Dyschezia Tenesmus and Les Fuzz Minou and from Auckland\, Herstot.\nUsually a Thursday Noise Situation is free but we will gladly accept koha for Herstot’s travel expenses. They will also have CDs available on the night. \nHerstot is the noise project of Auckland-based sound artist Paul Stothers\nHarnessing effects pedals\, feedback loops\, field recordings and horror film fragments\,\nHerstot delivers brutal harsh noise and power electronics\, while drawing on death metal\,\ndrone\, industrial\, ambient\, and spoken word.\nThe result: traumatic tone poems that soundtrack the geopolitical terror of our times.\n“…like being on acid in a haunted mental asylum.” — Internet Person #1 \nLes Fuzz Minou are wiwiwi this mischievous mischief noise night. wiwiwi\, wiwiwiwi wiwiwiwiwi~ wiwiwiwi \nDyschezia Tenesmus Sextet\nHigh energy epiphanies and revelations conspire with a bloody-black knuckled\, smashed mirror approach to twentieth century fire music. At once a continuation of Harte’s turn of the millennium free improv unit CM Ensemble and a merging of Aotearoa Snuff Jazz Ensemble (founded by Harte\, Jeff Henderson and Bruce Russell) and Will Callaghan’s contemporaneous Angelic Numberwang. Feverish ensemble confrontations and divinations plateau into trance-like states of transcendence and abjection. Call the police.\nWill Callaghan: Electric Guitar\nReuben Derrick: Saxophone\nNick Harte: Trap Kit\nJeff Henderson: Saxophone\nGreg Larking: Saxophone\nRobin Osborn: Electric Bass \n8pm\n30oct\ndarkroom \n
URL:https://soundsgood.guide/gig/dyschezia-tenesmus-herstot-akl-les-fuzz-minou/
LOCATION:darkroom\, 336 St. Asaph St\, Christchurch\, 8011\, New Zealand
CATEGORIES:Gig
ATTACH;FMTTYPE=image/jpeg:https://soundsgood.guide/wp-content/uploads/2025/10/99016-691309.jpg
END:VEVENT
END:VCALENDAR