BEGIN:VCALENDAR
VERSION:2.0
PRODID:-//SoundsGood - ECPv4.9.4//NONSGML v1.0//EN
CALSCALE:GREGORIAN
METHOD:PUBLISH
X-WR-CALNAME:SoundsGood
X-ORIGINAL-URL:https://soundsgood.guide
X-WR-CALDESC:Events for SoundsGood
BEGIN:VTIMEZONE
TZID:"Pacific/Auckland"
BEGIN:STANDARD
TZOFFSETFROM:+1300
TZOFFSETTO:+1200
TZNAME:NZST
DTSTART:20250405T140000
END:STANDARD
BEGIN:DAYLIGHT
TZOFFSETFROM:+1200
TZOFFSETTO:+1300
TZNAME:NZDT
DTSTART:20250927T140000
END:DAYLIGHT
END:VTIMEZONE
BEGIN:VEVENT
DTSTART;TZID="Pacific/Auckland":20250926T200000
DTEND;TZID="Pacific/Auckland":20250926T220000
DTSTAMP:20260420T001301
CREATED:20250923T025322Z
LAST-MODIFIED:20250923T025322Z
UID:26291-1758916800-1758924000@soundsgood.guide
SUMMARY:Ellie Oak EP & Album Fundraiser Show
DESCRIPTION:Ellie Oak has recently recorded a new EP with the award winning producer Tom Healy! We’re putting on an exclusive show to kick off our fundraiser campaign to help raise some coin to support us with the costs of the EP and album. At this show you’ll get to hear some of the recorded tracks and the live versions too! Doors open at 8pm\, at Space Academy in Christchurch on September 26th. There will be door sales with an eftpos machine. The amazing Callum Ward is opening – he’s such a vibe! \n  \n
URL:https://soundsgood.guide/gig/ellie-oak-ep-album-fundraiser-show/
LOCATION:Space Academy\, 371 St Asaph St\, Christchurch\, 8011\, New Zealand
CATEGORIES:Gig
ATTACH;FMTTYPE=image/png:https://soundsgood.guide/wp-content/uploads/2025/09/98185-887939.png
END:VEVENT
END:VCALENDAR