BEGIN:VCALENDAR
VERSION:2.0
PRODID:-//SoundsGood - ECPv4.9.4//NONSGML v1.0//EN
CALSCALE:GREGORIAN
METHOD:PUBLISH
X-WR-CALNAME:SoundsGood
X-ORIGINAL-URL:https://soundsgood.guide
X-WR-CALDESC:Events for SoundsGood
BEGIN:VTIMEZONE
TZID:"Pacific/Auckland"
BEGIN:STANDARD
TZOFFSETFROM:+1300
TZOFFSETTO:+1200
TZNAME:NZST
DTSTART:20250405T140000
END:STANDARD
BEGIN:DAYLIGHT
TZOFFSETFROM:+1200
TZOFFSETTO:+1300
TZNAME:NZDT
DTSTART:20250927T140000
END:DAYLIGHT
END:VTIMEZONE
BEGIN:VEVENT
DTSTART;TZID="Pacific/Auckland":20250411T200000
DTEND;TZID="Pacific/Auckland":20250412T010000
DTSTAMP:20260420T025855
CREATED:20250331T031911Z
LAST-MODIFIED:20250331T031911Z
UID:25252-1744401600-1744419600@soundsgood.guide
SUMMARY:Fantasia XP
DESCRIPTION:Enter a time when technology meant optimism. Calling all users who miss the glossy exterior that used to coat the ones and zeros. Bask in the glow of our first full fantasia AV installation\, the courtyard will become a retro future dream dance floor for one night. Soundtracked by Otautahi’s finest selectors; expect underground club sounds backed by an opera of tropical fish over a blissful meadow. \n  \nFantasia XP \nFlux \nFriday 11th of April \n8pm-1amx \n
URL:https://soundsgood.guide/gig/fantasia-xp/
LOCATION:FLUX\, 270 St Asaph Street\, Christchurch\, New Zealand
CATEGORIES:DJ Night
ATTACH;FMTTYPE=image/png:https://soundsgood.guide/wp-content/uploads/2025/03/Screenshot-2025-03-31-161854.png
END:VEVENT
END:VCALENDAR