BEGIN:VCALENDAR
VERSION:2.0
PRODID:-//SoundsGood - ECPv4.9.4//NONSGML v1.0//EN
CALSCALE:GREGORIAN
METHOD:PUBLISH
X-WR-CALNAME:SoundsGood
X-ORIGINAL-URL:https://soundsgood.guide
X-WR-CALDESC:Events for SoundsGood
BEGIN:VTIMEZONE
TZID:"Pacific/Auckland"
BEGIN:STANDARD
TZOFFSETFROM:+1300
TZOFFSETTO:+1200
TZNAME:NZST
DTSTART:20250405T140000
END:STANDARD
BEGIN:DAYLIGHT
TZOFFSETFROM:+1200
TZOFFSETTO:+1300
TZNAME:NZDT
DTSTART:20250927T140000
END:DAYLIGHT
END:VTIMEZONE
BEGIN:VEVENT
DTSTART;TZID="Pacific/Auckland":20250530T200000
DTEND;TZID="Pacific/Auckland":20250531T010000
DTSTAMP:20260421T113142
CREATED:20250512T205531Z
LAST-MODIFIED:20250512T205757Z
UID:25570-1748635200-1748653200@soundsgood.guide
SUMMARY:FOOTMAHI 2025 Release Party
DESCRIPTION:It’s an absolute privilege that we want to announce that the crew at Flux have invited The Big Fresh Collective to host a bi-monthly residency for the rest of the 2025 – kicking things off with the much anticipated FOOTMAHI 2025 RELEASE PARTY 🚨 \n  \nClosing off New Zealand Music Month in style on Friday the 30th of May – Big Fresh heavyweights Liam K. Swiggs/Young Gho$t/Caru make there way back down to the mighty city of Ōtautahi with an extra special guest joining them for the mayhem – THE ONE AND ONLY DONK DOBBO \n  \n– W/ 103 Soundsytem on the levels you know what it is tickets on Flicket get em when you can 🎫  \n  \nWe’ve got Chole gracing the decks on the BFC big stage for the very first time after making her debut on Footmahi 2025 earlier this month with her Baby got back remix 🏄‍♂️ \n  \nAlongside that we’ve got TWO of the cities heaviest hitters; the return of the best NRL halves pairing since Shaun Johnson and James Maloney – Jay Luv & Bahns are back and are BADDER than ever after both sharing amazing tracks on this years instalment of the mahi 🖤 \n  \nTo top it all off two of the cities biggest up and comers who caught the ears of head coach K. Swiggs over the past 12 months; Bellsy & DWULLWUD will be holding it down for the next generation 💊 \n  \n  \n  \nTHIS IS A SHOW FOR THE AGES – GET YOUR TICKETS NOW! 🎫  \n
URL:https://soundsgood.guide/gig/footmahi-2025-release-party/
LOCATION:FLUX\, 270 St Asaph Street\, Christchurch\, New Zealand
CATEGORIES:DJ Night,Release
ATTACH;FMTTYPE=image/png:https://soundsgood.guide/wp-content/uploads/2025/05/Screenshot-2025-05-13-085349.png
END:VEVENT
END:VCALENDAR