BEGIN:VCALENDAR
VERSION:2.0
PRODID:-//SoundsGood - ECPv4.9.4//NONSGML v1.0//EN
CALSCALE:GREGORIAN
METHOD:PUBLISH
X-WR-CALNAME:SoundsGood
X-ORIGINAL-URL:https://soundsgood.guide
X-WR-CALDESC:Events for SoundsGood
BEGIN:VTIMEZONE
TZID:"Pacific/Auckland"
BEGIN:STANDARD
TZOFFSETFROM:+1300
TZOFFSETTO:+1200
TZNAME:NZST
DTSTART:20250405T140000
END:STANDARD
BEGIN:DAYLIGHT
TZOFFSETFROM:+1200
TZOFFSETTO:+1300
TZNAME:NZDT
DTSTART:20250927T140000
END:DAYLIGHT
END:VTIMEZONE
BEGIN:VEVENT
DTSTART;TZID="Pacific/Auckland":20250611T080000
DTEND;TZID="Pacific/Auckland":20250611T170000
DTSTAMP:20260420T085627
CREATED:20250611T040248Z
LAST-MODIFIED:20250611T040248Z
UID:25906-1749628800-1749661200@soundsgood.guide
SUMMARY:FUNDAMENTAL
DESCRIPTION:A night built on drums\, breaks and bass — Curated by the one and only Max aka AUTOMATIC — our behind-the-bar badman and low-end enthusiast — Fundamental is about stripping things back to what really matters: deep\, soulful\, break-driven music with no ego and no gimmicks. Just deepcut\, soulful pressure and proper 160+ excursions built for the heads. \n  \nTo complete the experience\, he’s bringing in some heavy company: ROSA and SINGR — two local legends ready to hold it down with selections that speak for themselves! \n  \nFUNDAMENTAL \nSATURDAY\, JUNE 14TH \n10PM–1AM \nFLUX \n\n
URL:https://soundsgood.guide/gig/fundamental/
CATEGORIES:Gig
ATTACH;FMTTYPE=image/png:https://soundsgood.guide/wp-content/uploads/2025/06/images-1.png
END:VEVENT
END:VCALENDAR