BEGIN:VCALENDAR
VERSION:2.0
PRODID:-//SoundsGood - ECPv4.9.4//NONSGML v1.0//EN
CALSCALE:GREGORIAN
METHOD:PUBLISH
X-WR-CALNAME:SoundsGood
X-ORIGINAL-URL:https://soundsgood.guide
X-WR-CALDESC:Events for SoundsGood
BEGIN:VTIMEZONE
TZID:"Pacific/Auckland"
BEGIN:STANDARD
TZOFFSETFROM:+1300
TZOFFSETTO:+1200
TZNAME:NZST
DTSTART:20250405T140000
END:STANDARD
BEGIN:DAYLIGHT
TZOFFSETFROM:+1200
TZOFFSETTO:+1300
TZNAME:NZDT
DTSTART:20250927T140000
END:DAYLIGHT
END:VTIMEZONE
BEGIN:VEVENT
DTSTART;TZID="Pacific/Auckland":20250621T220000
DTEND;TZID="Pacific/Auckland":20250622T010000
DTSTAMP:20260421T112941
CREATED:20250611T041651Z
LAST-MODIFIED:20250611T041651Z
UID:25916-1750543200-1750554000@soundsgood.guide
SUMMARY:FUNKREATORS
DESCRIPTION:FunKreators is the latest in-house Flux night dialed into all your favourite funk flavoured delights\, brought to you by a tight crew of local ‘03 selectors old and new. Guiding the night are KATE.LAND\, SOULPROVIDER\, and THANKS\, each delivering their own take on groove\, rhythm\, and raw dancefloor energy. \n  \nExpect a night that transmits rhythm and vibe to set your feet in motion as you testify to the groove and surrender to the funk! If you’ve been missing parties with a bit of warmth and character\, this one’s for you! \n  \nRetro threads encouraged! \n  \nFUNKREATORS \nKATE.LAND / SOULPROVIDER / THANKS \nFLUX \n21ST JUNE \n10PM-1AM \n
URL:https://soundsgood.guide/gig/funkreators/
LOCATION:FLUX\, 270 St Asaph Street\, Christchurch\, New Zealand
CATEGORIES:Gig
ATTACH;FMTTYPE=image/jpeg:https://soundsgood.guide/wp-content/uploads/2025/06/500658145_1368685344694857_1560480178320188623_n.jpg
END:VEVENT
END:VCALENDAR