BEGIN:VCALENDAR
VERSION:2.0
PRODID:-//SoundsGood - ECPv4.9.4//NONSGML v1.0//EN
CALSCALE:GREGORIAN
METHOD:PUBLISH
X-WR-CALNAME:SoundsGood
X-ORIGINAL-URL:https://soundsgood.guide
X-WR-CALDESC:Events for SoundsGood
BEGIN:VTIMEZONE
TZID:"Pacific/Auckland"
BEGIN:STANDARD
TZOFFSETFROM:+1300
TZOFFSETTO:+1200
TZNAME:NZST
DTSTART:20240406T140000
END:STANDARD
BEGIN:DAYLIGHT
TZOFFSETFROM:+1200
TZOFFSETTO:+1300
TZNAME:NZDT
DTSTART:20240928T140000
END:DAYLIGHT
END:VTIMEZONE
BEGIN:VEVENT
DTSTART;TZID="Pacific/Auckland":20241222T210000
DTEND;TZID="Pacific/Auckland":20241222T230000
DTSTAMP:20260421T141751
CREATED:20241124T195139Z
LAST-MODIFIED:20241124T195139Z
UID:24198-1734901200-1734908400@soundsgood.guide
SUMMARY:GIBSON XCVIII
DESCRIPTION:GIBSON XCVIII are throwing a last hoorah for 2024 & celebrating their new single SEROTONIN (Out 20th December). \n** TO CELEBRATE THIS THEY ARE PUTTING TICKETS AT $5 PER PERSON – FIRST IN FIRST SERVED ** \nSpace Academy \, doors at 8PM \nPlease pre-save their upcoming single SEROTONING here : https://wearewaave.lnk.to/SEROTONIN \nSupport acts TBA \n
URL:https://soundsgood.guide/gig/gibson-xcviii/
LOCATION:Space Academy\, 371 St Asaph St\, Christchurch\, 8011\, New Zealand
CATEGORIES:Gig
ATTACH;FMTTYPE=image/png:https://soundsgood.guide/wp-content/uploads/2024/11/93643-568799.png
END:VEVENT
END:VCALENDAR