BEGIN:VCALENDAR
VERSION:2.0
PRODID:-//SoundsGood - ECPv4.9.4//NONSGML v1.0//EN
CALSCALE:GREGORIAN
METHOD:PUBLISH
X-WR-CALNAME:SoundsGood
X-ORIGINAL-URL:https://soundsgood.guide
X-WR-CALDESC:Events for SoundsGood
BEGIN:VTIMEZONE
TZID:"Pacific/Auckland"
BEGIN:STANDARD
TZOFFSETFROM:+1300
TZOFFSETTO:+1200
TZNAME:NZST
DTSTART:20240406T140000
END:STANDARD
BEGIN:DAYLIGHT
TZOFFSETFROM:+1200
TZOFFSETTO:+1300
TZNAME:NZDT
DTSTART:20240928T140000
END:DAYLIGHT
END:VTIMEZONE
BEGIN:VEVENT
DTSTART;TZID="Pacific/Auckland":20241130T200000
DTEND;TZID="Pacific/Auckland":20241201T020000
DTSTAMP:20260422T110633
CREATED:20241104T224244Z
LAST-MODIFIED:20241104T224244Z
UID:24044-1732996800-1733018400@soundsgood.guide
SUMMARY:Hang The Saints HANG THE SAINTS - KEEPSAKES (LIVE)\, TEXTURE\, HUNTER & THE RAT
DESCRIPTION:KEEPSAKES (LIVE) \nTEXTURE\nHUNTER & THE RAT \nHANG THE SAINTS \n\nBRAND NEW EURO STYLES TECHNO PARTY IN ŌTAUTAHI. DRESS TO SWEAT. \n30th NOVEMBER // GALAXY BAR  // 8PM-CLOSE \nKEEPSAKES (LIVE SET)\nTEXTURE\nHUNTER B2B THE RAT \n+ ONE MORE SUPPORT TBA \nPOWERED BY 103 SOUNDSYSTEM \nNO SOUND RESTRICTIONS \nPlease read our safer spaces policy before buying a ticket: \nHang the Saints aims to create a respectful\, open minded and loving space where people feel able to express themselves on our dance floor without fear or worry. \nHang the Saints is a space for everyone to dance\, have fun and exist without any judgement from others. \nNO PHOTOS: There is a no photo policy at our parties. If you want to record please only audio. This will be enforced strictly. \nTolerance: Should be clear. Racism\, as well as homophobia\, sexism\, transphobia\, ableism etc… will not be tolerated. \nWellness: If you or someone you know is feeling unwell please tell your mates\, venue staff or our crew immediately. No judgment at all. Please look after yourself and those around you. \nSafety: We will try our hardest to make our party as safe/inclusive of an environment to dance as possible! You can reach out to one of us if you see something of concern with no judgment. We are open to feedback and will continually try to improve our party! Please reach out to us on Instagram or at hangthesaints@gmail.com \nZero-Tolerance to Assault & Harassment. \nDRESS TO SWEAT \n
URL:https://soundsgood.guide/gig/hang-the-saints-hang-the-saints-keepsakes-live-texture-hunter-the-rat/
LOCATION:Galaxy Bar\, 206 Barbadoes Street\, New Zealand
CATEGORIES:DJ Night
ATTACH;FMTTYPE=image/jpeg:https://soundsgood.guide/wp-content/uploads/2024/11/89b78c389247f00b2ca5dbe876351ba2.jpg
END:VEVENT
END:VCALENDAR