BEGIN:VCALENDAR
VERSION:2.0
PRODID:-//SoundsGood - ECPv4.9.4//NONSGML v1.0//EN
CALSCALE:GREGORIAN
METHOD:PUBLISH
X-WR-CALNAME:SoundsGood
X-ORIGINAL-URL:https://soundsgood.guide
X-WR-CALDESC:Events for SoundsGood
BEGIN:VTIMEZONE
TZID:"Pacific/Auckland"
BEGIN:STANDARD
TZOFFSETFROM:+1300
TZOFFSETTO:+1200
TZNAME:NZST
DTSTART:20240406T140000
END:STANDARD
BEGIN:DAYLIGHT
TZOFFSETFROM:+1200
TZOFFSETTO:+1300
TZNAME:NZDT
DTSTART:20240928T140000
END:DAYLIGHT
END:VTIMEZONE
BEGIN:VEVENT
DTSTART;TZID="Pacific/Auckland":20240621T200000
DTEND;TZID="Pacific/Auckland":20240622T030000
DTSTAMP:20260422T005924
CREATED:20240520T000530Z
LAST-MODIFIED:20240520T000530Z
UID:22579-1719000000-1719025200@soundsgood.guide
SUMMARY:Hide & Censored Events Presents: Cesco
DESCRIPTION:Hide and Censored Events are excited to present Cesco. \n  \nHide Club | 172 St Asaph Street \nFriday 21st June | 10:00pm – 3:00am \n  \nSupport from: Jousey b2b Evo\, Hound\, Mantis \nTickets are now on sale\, scoop up and early bird before you miss out! \n  \nCesco: \nCesco was born on March 22nd\, 1994 in Venice (Italy). He has always loved music\, grew up listening a lot of different kind of musical genres and styles from the stereo of his brother. At the age of 16 he began having much more curiosity about underground music scene. He starts listening techno\, tech house\, minimal and any other connected to the world of electronics. This love is so strong that it brings a real change in his life. His musical culture oriented now on the techno and tech house genres. From 2014 he was totally immersed in this “electronic” world\, step by step\, he starts to make his first movement in the world of productions. \nHe is currently working on several projects that will be released soon… \n
URL:https://soundsgood.guide/gig/hide-censored-events-presents-cesco/
LOCATION:Hide\, 172 St Asaph Street\, Christchurch\, 8011\, NZ
CATEGORIES:DJ Night
ATTACH;FMTTYPE=image/png:https://soundsgood.guide/wp-content/uploads/2024/05/Screenshot-2024-05-20-120513.png
END:VEVENT
END:VCALENDAR