BEGIN:VCALENDAR
VERSION:2.0
PRODID:-//SoundsGood - ECPv4.9.4//NONSGML v1.0//EN
CALSCALE:GREGORIAN
METHOD:PUBLISH
X-WR-CALNAME:SoundsGood
X-ORIGINAL-URL:https://soundsgood.guide
X-WR-CALDESC:Events for SoundsGood
BEGIN:VTIMEZONE
TZID:"Pacific/Auckland"
BEGIN:STANDARD
TZOFFSETFROM:+1300
TZOFFSETTO:+1200
TZNAME:NZST
DTSTART:20240406T140000
END:STANDARD
BEGIN:DAYLIGHT
TZOFFSETFROM:+1200
TZOFFSETTO:+1300
TZNAME:NZDT
DTSTART:20240928T140000
END:DAYLIGHT
END:VTIMEZONE
BEGIN:VEVENT
DTSTART;TZID="Pacific/Auckland":20241123T220000
DTEND;TZID="Pacific/Auckland":20241124T030000
DTSTAMP:20260421T103548
CREATED:20241020T212110Z
LAST-MODIFIED:20241020T212110Z
UID:23961-1732399200-1732417200@soundsgood.guide
SUMMARY:Hide Presents: Dirtyphonics
DESCRIPTION:Hide is thrilled to present Dirtyphonics \n  \nHide Club | 172 St Asaph Street \nSaturday 23rd November | 10:00pm – 3:00am \nSupport from: Ayaluna\, Stryde\, Lunchtime \nTickets are on sale now! Scoop up an early bird before they’re gone! \n  \nAbout Dirtyphonics: \nParisian electronic duo Dirtyphonics (Charly Barranger and Julien ‘Pitchin’ Corrales) are true legends of Bass Music. They have shaped the sound of French Bass Music and have taken their boundless creativity and explosive shows all across the world\, from Coachella to Tomorrowland\, Glastonbury and many more. After countless releases on multiple labels\, and remixes for Skrillex\, The Chainsmokers\, Marylin Manson\, Linking Park\, Kaskade and many others\, Dirtyphonics have joined the Monstercat records family to release a string of heavy music going from the iconic metal infused “Vantablack EP” with Sullivan King to the intense “Evil Inside” that gathered millions on Spotify. \nIn 2022\, Dirtyphonics have stepped up to their role of ambassador of the French Bass Music by helping and pushing established and up coming French producers to the limelight. They did so on their “What The French” EP\, a collaborative body of work that lays the grounds of what French Bass music sounds like. After headlining festivals all over Europe in 2022 and 2023 with their large scale production “LIIVE” and “Elevated” tours\, Dirtyphonics released in May 2024 their long awaited sophomore album\, “Magnetic”\, that displays once again their love for Drum & Bass and their ability to navigate across multiple tempos. The guys are now embarking on a world tour that will take them from Tomorrowland\, Parookaville and Dreambeach to Lost Lands and many more. \n
URL:https://soundsgood.guide/gig/hide-presents-dirtyphonics/
LOCATION:Hide\, 172 St Asaph Street\, Christchurch\, 8011\, NZ
CATEGORIES:DJ Night
ATTACH;FMTTYPE=image/png:https://soundsgood.guide/wp-content/uploads/2024/10/Screenshot-2024-10-21-102054.png
END:VEVENT
END:VCALENDAR