BEGIN:VCALENDAR
VERSION:2.0
PRODID:-//SoundsGood - ECPv4.9.4//NONSGML v1.0//EN
CALSCALE:GREGORIAN
METHOD:PUBLISH
X-WR-CALNAME:SoundsGood
X-ORIGINAL-URL:https://soundsgood.guide
X-WR-CALDESC:Events for SoundsGood
BEGIN:VTIMEZONE
TZID:"Pacific/Auckland"
BEGIN:STANDARD
TZOFFSETFROM:+1300
TZOFFSETTO:+1200
TZNAME:NZST
DTSTART:20240406T140000
END:STANDARD
BEGIN:DAYLIGHT
TZOFFSETFROM:+1200
TZOFFSETTO:+1300
TZNAME:NZDT
DTSTART:20240928T140000
END:DAYLIGHT
END:VTIMEZONE
BEGIN:VEVENT
DTSTART;TZID="Pacific/Auckland":20240824T220000
DTEND;TZID="Pacific/Auckland":20240825T030000
DTSTAMP:20260421T092328
CREATED:20240714T212824Z
LAST-MODIFIED:20240714T212824Z
UID:23151-1724536800-1724554800@soundsgood.guide
SUMMARY:Hide Presents: Fredrick
DESCRIPTION:Hide is excited to present Fredrick! \nHide Club | 172 St Asaph Street \nSaturday 24th August | 10:00pm – 3:00am \nSupport from: Ligma\, Artemizia\, Intruda \nTickets are on sale now! Scoop up an early bird before they’re gone! \nDrawing inspiration from the avant-garde traditions of abstract fine art\, Fredrick layers the canvas of sound with cascading rhythms and fragmented melodies\, creating a composition of contrasting textures and harmonious dissonances. The percussive palette is a harmonious fusion of organic timbres\, ethereal atmospheres\, and glitchy soundscapes\, intertwining seamlessly to create a symphony of controlled chaos—a multi-sensory opus for the most discerning connoisseur.  \nAs Fredrick continues to push the boundaries of drum and bass\, this abstract sound sculptor emerges as a true visionary\, bridging the worlds of fine art and music. Through sonic experimentation and a tireless pursuit of innovation\, Fredrick invites us to witness the convergence of the abstract and the tangible\, inspiring us to embrace the beauty found within the unconventional\, and challenging us to redefine the rules of the genre and the medium as a whole. \n
URL:https://soundsgood.guide/gig/hide-presents-fredrick/
LOCATION:Hide\, 172 St Asaph Street\, Christchurch\, 8011\, NZ
CATEGORIES:DJ Night
ATTACH;FMTTYPE=image/png:https://soundsgood.guide/wp-content/uploads/2024/07/Screenshot-2024-07-15-092808.png
END:VEVENT
END:VCALENDAR