BEGIN:VCALENDAR
VERSION:2.0
PRODID:-//SoundsGood - ECPv4.9.4//NONSGML v1.0//EN
CALSCALE:GREGORIAN
METHOD:PUBLISH
X-WR-CALNAME:SoundsGood
X-ORIGINAL-URL:https://soundsgood.guide
X-WR-CALDESC:Events for SoundsGood
BEGIN:VTIMEZONE
TZID:"Pacific/Auckland"
BEGIN:STANDARD
TZOFFSETFROM:+1300
TZOFFSETTO:+1200
TZNAME:NZST
DTSTART:20250405T140000
END:STANDARD
BEGIN:DAYLIGHT
TZOFFSETFROM:+1200
TZOFFSETTO:+1300
TZNAME:NZDT
DTSTART:20250927T140000
END:DAYLIGHT
END:VTIMEZONE
BEGIN:VEVENT
DTSTART;TZID="Pacific/Auckland":20250627T210000
DTEND;TZID="Pacific/Auckland":20250628T020000
DTSTAMP:20260421T102051
CREATED:20250604T030939Z
LAST-MODIFIED:20250604T030939Z
UID:25804-1751058000-1751076000@soundsgood.guide
SUMMARY:Hide presents: Halogenix & Strategy
DESCRIPTION:Two legends of the Drum & Bass world are coming to Hide Club. Hide is excited to present Halogenix & Strategy (DJ/MC set) this June!\n
URL:https://soundsgood.guide/gig/hide-presents-halogenix-strategy/
LOCATION:Hide\, 172 St Asaph Street\, Christchurch\, 8011\, NZ
CATEGORIES:Gig
ATTACH;FMTTYPE=image/webp:https://soundsgood.guide/wp-content/uploads/2025/06/aa21fd00fe97075807a9042b89f786d9dca75225.webp
END:VEVENT
END:VCALENDAR