BEGIN:VCALENDAR
VERSION:2.0
PRODID:-//SoundsGood - ECPv4.9.4//NONSGML v1.0//EN
CALSCALE:GREGORIAN
METHOD:PUBLISH
X-WR-CALNAME:SoundsGood
X-ORIGINAL-URL:https://soundsgood.guide
X-WR-CALDESC:Events for SoundsGood
BEGIN:VTIMEZONE
TZID:"Pacific/Auckland"
BEGIN:STANDARD
TZOFFSETFROM:+1300
TZOFFSETTO:+1200
TZNAME:NZST
DTSTART:20240406T140000
END:STANDARD
BEGIN:DAYLIGHT
TZOFFSETFROM:+1200
TZOFFSETTO:+1300
TZNAME:NZDT
DTSTART:20240928T140000
END:DAYLIGHT
BEGIN:STANDARD
TZOFFSETFROM:+1300
TZOFFSETTO:+1200
TZNAME:NZST
DTSTART:20250405T140000
END:STANDARD
BEGIN:DAYLIGHT
TZOFFSETFROM:+1200
TZOFFSETTO:+1300
TZNAME:NZDT
DTSTART:20250927T140000
END:DAYLIGHT
END:VTIMEZONE
BEGIN:VEVENT
DTSTART;TZID="Pacific/Auckland":20241231T220000
DTEND;TZID="Pacific/Auckland":20250101T030000
DTSTAMP:20260421T102851
CREATED:20241201T220940Z
LAST-MODIFIED:20241201T220940Z
UID:24246-1735682400-1735700400@soundsgood.guide
SUMMARY:Hide Presents: Mampi Swift (NYE)
DESCRIPTION:Hide is thrilled to present a NYE special ft. Mampi Swift \n  \nHide Club | 172 St Asaph Street \nTuesday 31st December | 10:00pm – 3:00am \nSupport from: Chetty D\, Spacella b2b Clikd \nTickets are on sale now! Scoop up an early bird before they’re gone! \n  \nAbout Mampi Swift: \nThe very definition of a legend\, Mampi Swift has been involved in the drum & bass scene since the early 90’s. It was in 1990 that Swift started DJing and found himself behind the counter of Lucky Spin records. With access to the studio next door and an in-house engineer\, Swift jumped at the valuable opportunity to start learning how to produce. Releases soon started filtering out with labels like Suburban Base\, True Playaz\, Trouble On Vinyl & Frontline all taking tracks. \n1997 saw the launch of Charge Recordings\, and a slur of releases that saw him rise meteorically to the top of the DnB tree. With the release of ‘The One’\, Swift became a household name and he showed no signs of slowing up\, following that up with the likes of ‘Hi Tek’\, ‘Touch Of J’\, ‘Jaws’ and ‘Trippin’. The label went from strength to strength and has since seen releases from Fresh\, Friction\, Blame\, Sigma\, Gridlok and more. \nA pioneer of the double drop style of DJing alongside Andy C\, his unmistakeable presence behind the decks has formed the back bone of many a line up from the UK to the States and everywhere in between. A true originator he has influenced and shaped the scene like few others. \nAfter a couple of years out\, Mampi Swift & Charge Recordings are back in the biggest way. With his latest releases gaining support from the likes of Andy C\, MistaJam\, Friction\, Hype\, Crissy Criss & Bailey. Tracks such as ‘Gangster’\, ‘Soldiers’ & ‘The Silence’ have been destroying dance floors worldwide! Fast forward to Autumn 2013 and surely a career highlight for Swift as his monstrous remix of Dizzee Rascal’s ‘I Dont Need A Reason’ took his profile to another level. The track was featured heavily on both mainstream & underground radio\, and was critically acclaimed to be “The most disgusting slice of D&B in the last 5 years!” – Zane Lowe. \nFeeling fresh after his USA tour\, Mampi Swift returns to the UK with an arsenal of new music and is ready to work on new solo projects to bring to dancefloors left\, right and centre.  \n
URL:https://soundsgood.guide/gig/hide-presents-mampi-swift-nye/
LOCATION:Hide\, 172 St Asaph Street\, Christchurch\, 8011\, NZ
CATEGORIES:DJ Night
ATTACH;FMTTYPE=image/png:https://soundsgood.guide/wp-content/uploads/2024/12/Screenshot-2024-12-02-110928.png
END:VEVENT
END:VCALENDAR