BEGIN:VCALENDAR
VERSION:2.0
PRODID:-//SoundsGood - ECPv4.9.4//NONSGML v1.0//EN
CALSCALE:GREGORIAN
METHOD:PUBLISH
X-WR-CALNAME:SoundsGood
X-ORIGINAL-URL:https://soundsgood.guide
X-WR-CALDESC:Events for SoundsGood
BEGIN:VTIMEZONE
TZID:"Pacific/Auckland"
BEGIN:STANDARD
TZOFFSETFROM:+1300
TZOFFSETTO:+1200
TZNAME:NZST
DTSTART:20240406T140000
END:STANDARD
BEGIN:DAYLIGHT
TZOFFSETFROM:+1200
TZOFFSETTO:+1300
TZNAME:NZDT
DTSTART:20240928T140000
END:DAYLIGHT
END:VTIMEZONE
BEGIN:VEVENT
DTSTART;TZID="Pacific/Auckland":20240919T200000
DTEND;TZID="Pacific/Auckland":20240920T010000
DTSTAMP:20260421T081131
CREATED:20240714T214039Z
LAST-MODIFIED:20240714T214039Z
UID:23157-1726776000-1726794000@soundsgood.guide
SUMMARY:Hide Presents: NOTION DANCE DUBS / CHRISTCHURCH
DESCRIPTION:Hide is excited to present NOTION! \nHide Club | 172 St Asaph Street \nThursday 19th September | 8:00pm – 1:00am \nSupport TBA  \nTickets are on sale now! Scoop up an early bird before they’re gone! \nNOTION: \nAs one of the leading names of the UK dance scene\, Notion has no doubt solidified his reputation as a true musical heavyweight. Recently signed to Virgin Music\, he’s had a multitude of hits under his belt\, including the 2022 project ‘Outsider’ which featured viral hit ‘Found Love’ and a remix of prallel’s ‘I Know.’ Aside from official releases which has earned him 1.3 million monthly Spotify listeners\, Notion also started the Dance Dubs project with a UK tour of the same name to give a home to his live edits & bootlegs that otherwise wouldn’t have seen the light of day\, proving to be a massive success among his fanbase. On the touring front\, he is equally as successful\, regularly performing to packed crowds at iconic festivals such as Creamfields\, Outlook and many more with a B2B set alongside Sammy Virji at both Printworks and Nass Festival\, also going on to tour in Australia & New Zealand with Conducta. Laying down the foundations for many successful years to come\, Notion is one to keep an eye on! \n
URL:https://soundsgood.guide/gig/hide-presents-notion-dance-dubs-christchurch/
LOCATION:Hide\, 172 St Asaph Street\, Christchurch\, 8011\, NZ
CATEGORIES:DJ Night
ATTACH;FMTTYPE=image/png:https://soundsgood.guide/wp-content/uploads/2024/07/Screenshot-2024-07-15-094020.png
END:VEVENT
END:VCALENDAR