BEGIN:VCALENDAR
VERSION:2.0
PRODID:-//SoundsGood - ECPv4.9.4//NONSGML v1.0//EN
CALSCALE:GREGORIAN
METHOD:PUBLISH
X-WR-CALNAME:SoundsGood
X-ORIGINAL-URL:https://soundsgood.guide
X-WR-CALDESC:Events for SoundsGood
BEGIN:VTIMEZONE
TZID:"Pacific/Auckland"
BEGIN:STANDARD
TZOFFSETFROM:+1300
TZOFFSETTO:+1200
TZNAME:NZST
DTSTART:20250405T140000
END:STANDARD
BEGIN:DAYLIGHT
TZOFFSETFROM:+1200
TZOFFSETTO:+1300
TZNAME:NZDT
DTSTART:20250927T140000
END:DAYLIGHT
END:VTIMEZONE
BEGIN:VEVENT
DTSTART;TZID="Pacific/Auckland":20251115T200000
DTEND;TZID="Pacific/Auckland":20251115T230000
DTSTAMP:20260420T001851
CREATED:20251111T214232Z
LAST-MODIFIED:20251111T214232Z
UID:26457-1763236800-1763247600@soundsgood.guide
SUMMARY:High Altar - Veneration Of St Denis Tour
DESCRIPTION:HIGH ALTAR is a two piece semi-improv instrumental assemblage\, made up of Brendan Moran (Hasselhoff Expt\, Subliminals\, etc) and Taipua Adams (Terror of the Deep\, The Perms). \nHIGH ALTAR are an intense crackle of spectral sounds; a potent audio tool built on a bare-bones structure of rhythm section components and added electronic timbre which alights a crooked path trailing sonic vortices with oscillatory behavior. In short – drum kit\, bass guitar\, atmospheric electronics. Sometimes heavy\, sometimes fast and punchy. \nTheir devotional offering of aural expression shall occur at the following cathedrals of sound. \nThurs 23rd Oct – Asgard (all ages)\, New Plymouth – w/- Maraudic\nFri 24th Oct – Nivara Lounge\, Hamilton – w/- Commodore 65\nSat 25th Oct – Whammy\, Auckland – w/- Dos Ovni and The Fairlight Choir\nFri 31st Oct – Porridge Watson\, Whanganui – w/- Unsanitary Napkin\nSat 1st Nov – Underworld Tavern\, Wellington – w/- UMU\nFri 7th Nov – Snails (all ages)\, Palmerston North – w/- Christian Wolves\nSat 8th Nov – Paisley Stage\, Napier – w/- Doom Swoon\nThurs 13th Nov – Penguin Club\, Oamaru – w/- Cuticles\nFri 14th Nov – The Crown\, Dunedin – w/- Sewage\nSat 15th Nov – Space Academy\, Christchurch – w/- No Exit \n
URL:https://soundsgood.guide/gig/high-altar-veneration-of-st-denis-tour/
LOCATION:Space Academy\, 371 St Asaph St\, Christchurch\, 8011\, New Zealand
CATEGORIES:Gig
ATTACH;FMTTYPE=image/png:https://soundsgood.guide/wp-content/uploads/2025/11/High-Altar.png
END:VEVENT
END:VCALENDAR