BEGIN:VCALENDAR
VERSION:2.0
PRODID:-//SoundsGood - ECPv4.9.4//NONSGML v1.0//EN
CALSCALE:GREGORIAN
METHOD:PUBLISH
X-WR-CALNAME:SoundsGood
X-ORIGINAL-URL:https://soundsgood.guide
X-WR-CALDESC:Events for SoundsGood
BEGIN:VTIMEZONE
TZID:"Pacific/Auckland"
BEGIN:STANDARD
TZOFFSETFROM:+1300
TZOFFSETTO:+1200
TZNAME:NZST
DTSTART:20250405T140000
END:STANDARD
BEGIN:DAYLIGHT
TZOFFSETFROM:+1200
TZOFFSETTO:+1300
TZNAME:NZDT
DTSTART:20250927T140000
END:DAYLIGHT
END:VTIMEZONE
BEGIN:VEVENT
DTSTART;TZID="Pacific/Auckland":20250216T120000
DTEND;TZID="Pacific/Auckland":20250216T160000
DTSTAMP:20260421T092251
CREATED:20250210T000407Z
LAST-MODIFIED:20250210T000407Z
UID:24770-1739707200-1739721600@soundsgood.guide
SUMMARY:HIGHTIDE Market: Vintage & Vinyl
DESCRIPTION:
URL:https://soundsgood.guide/gig/hightide-market-vintage-vinyl/
LOCATION:Evil Genius\, 1091 Ferry Road\, Ferrymead\, Christchurch\, 8023\, New Zealand
CATEGORIES:Market
ATTACH;FMTTYPE=image/png:https://soundsgood.guide/wp-content/uploads/2025/02/WhatsON1351x1920px1.png
END:VEVENT
END:VCALENDAR