BEGIN:VCALENDAR
VERSION:2.0
PRODID:-//SoundsGood - ECPv4.9.4//NONSGML v1.0//EN
CALSCALE:GREGORIAN
METHOD:PUBLISH
X-WR-CALNAME:SoundsGood
X-ORIGINAL-URL:https://soundsgood.guide
X-WR-CALDESC:Events for SoundsGood
BEGIN:VTIMEZONE
TZID:"Pacific/Auckland"
BEGIN:STANDARD
TZOFFSETFROM:+1300
TZOFFSETTO:+1200
TZNAME:NZST
DTSTART:20250405T140000
END:STANDARD
BEGIN:DAYLIGHT
TZOFFSETFROM:+1200
TZOFFSETTO:+1300
TZNAME:NZDT
DTSTART:20250927T140000
END:DAYLIGHT
END:VTIMEZONE
BEGIN:VEVENT
DTSTART;TZID="Pacific/Auckland":20251030T200000
DTEND;TZID="Pacific/Auckland":20251030T223000
DTSTAMP:20260420T093726
CREATED:20251028T023030Z
LAST-MODIFIED:20251028T023030Z
UID:26390-1761854400-1761863400@soundsgood.guide
SUMMARY:Horsehands And Friends!
DESCRIPTION:fresh from the release of their most recent single\, horsehands are ready to perform that exact song\, and others. a little bit alt rock\, a little bit post rock. \nfriends to expect on the night are the powerful punk people Sentient Mud and ambient/techno/polson-core wizards POLSON \ndoors at 730pm\nSentient Mud at 8pm\nhorsehands at 845pm\nPOLSON at 930 \n
URL:https://soundsgood.guide/gig/horsehands-and-friends/
LOCATION:Wunderbar\, 14 Canterbury Street\, Lyttelton\, 8082\, New Zealand
CATEGORIES:Gig
ATTACH;FMTTYPE=image/png:https://soundsgood.guide/wp-content/uploads/2025/10/99013-903450.png
END:VEVENT
END:VCALENDAR