BEGIN:VCALENDAR
VERSION:2.0
PRODID:-//SoundsGood - ECPv4.9.4//NONSGML v1.0//EN
CALSCALE:GREGORIAN
METHOD:PUBLISH
X-WR-CALNAME:SoundsGood
X-ORIGINAL-URL:https://soundsgood.guide
X-WR-CALDESC:Events for SoundsGood
BEGIN:VTIMEZONE
TZID:"Pacific/Auckland"
BEGIN:STANDARD
TZOFFSETFROM:+1300
TZOFFSETTO:+1200
TZNAME:NZST
DTSTART:20250405T140000
END:STANDARD
BEGIN:DAYLIGHT
TZOFFSETFROM:+1200
TZOFFSETTO:+1300
TZNAME:NZDT
DTSTART:20250927T140000
END:DAYLIGHT
END:VTIMEZONE
BEGIN:VEVENT
DTSTART;TZID="Pacific/Auckland":20251219T203000
DTEND;TZID="Pacific/Auckland":20251219T223000
DTSTAMP:20260420T033253
CREATED:20251209T002426Z
LAST-MODIFIED:20251209T002426Z
UID:26620-1766176200-1766183400@soundsgood.guide
SUMMARY:Isaac Chambers And Dub Princess 2025 Tour (Christchurch)
DESCRIPTION:Isaac Chambers & Dub Princess return to the Loons Christchurch with support from Deep Fried Dub and Byte Size! \nAfter a sold-out Tour in 2023\, Isaac Chambers and Dub Princess return to Aotearoa New Zealand with nine shows across the country. \nProducer Isaac Chambers (NZ) and vocalist Dub Princess (UK) have been collaborating since 2015\, fusing elements of roots reggae\, soulful hip-hop\, and psychedelic downtempo. \nTouring as a four-piece band\, their live show takes inspiration from soulful Hip Hop\, Roots Reggae & Downtempo\, seamlessly layering sublime vocals over original chunky beats\, saxophone & minimoog – creating a balance of dancefloor energy and laid-back grooves. \n– Doors open from 8pm\n– Support act from Byte Size\n– Tickets available at Humanitix \n
URL:https://soundsgood.guide/gig/isaac-chambers-and-dub-princess-2025-tour-christchurch/
LOCATION:The Loons Club\, New Zealand
CATEGORIES:Gig
ATTACH;FMTTYPE=image/png:https://soundsgood.guide/wp-content/uploads/2025/12/99742-209286.png
END:VEVENT
END:VCALENDAR