BEGIN:VCALENDAR
VERSION:2.0
PRODID:-//SoundsGood - ECPv4.9.4//NONSGML v1.0//EN
CALSCALE:GREGORIAN
METHOD:PUBLISH
X-WR-CALNAME:SoundsGood
X-ORIGINAL-URL:https://soundsgood.guide
X-WR-CALDESC:Events for SoundsGood
BEGIN:VTIMEZONE
TZID:"Pacific/Auckland"
BEGIN:STANDARD
TZOFFSETFROM:+1300
TZOFFSETTO:+1200
TZNAME:NZST
DTSTART:20240406T140000
END:STANDARD
BEGIN:DAYLIGHT
TZOFFSETFROM:+1200
TZOFFSETTO:+1300
TZNAME:NZDT
DTSTART:20240928T140000
END:DAYLIGHT
END:VTIMEZONE
BEGIN:VEVENT
DTSTART;TZID="Pacific/Auckland":20240621T210000
DTEND;TZID="Pacific/Auckland":20240621T233000
DTSTAMP:20260421T221642
CREATED:20240422T033145Z
LAST-MODIFIED:20240422T033145Z
UID:22245-1719003600-1719012600@soundsgood.guide
SUMMARY:Jed Parsons
DESCRIPTION:A few years since bursting onto the scene with his critically acclaimed debut album ‘Midnight Feast’ (IMNZ Debut Release of The Year finalist) and over 2 million streams down the track\, indie-pop sensation Jed Parsons has made a name for himself as one of NZ’s finest singer/songwriters\, appearing at major festivals including Auckland City Limits and Electric Avenue as well as selling out venues up and down Aotearoa on countless tours. Parsons’ 2021 sophomore album ‘Brunch’ was a hit with listeners\, critics and many publications including Rolling Stone Magazine. RNZ called the closing track Breathe one of the best songs of the year while claiming nobody is writing catchier choruses in Aotearoa right now in another review. \nIn recent times\, Parsons has been lucky to escape a dark descent into the worlds of comedy and childrens music. With new music continuing to bubble away under the surface\, an entire album worth of new material is ready to be road-tested. \n“If you’re a fan of upbeat indie-pop\, then you might already be aware of Kiwi muso Jed Parsons. But if not\, he’s undoubtedly about to become one of your new favourite artists…” – Tone Deaf\, Australia \n
URL:https://soundsgood.guide/gig/jed-parsons-2/
LOCATION:Space Academy\, 371 St Asaph St\, Christchurch\, 8011\, New Zealand
CATEGORIES:Gig,Tour
ATTACH;FMTTYPE=image/jpeg:https://soundsgood.guide/wp-content/uploads/2024/04/89747-53741.jpg
END:VEVENT
END:VCALENDAR