BEGIN:VCALENDAR
VERSION:2.0
PRODID:-//SoundsGood - ECPv4.9.4//NONSGML v1.0//EN
CALSCALE:GREGORIAN
METHOD:PUBLISH
X-WR-CALNAME:SoundsGood
X-ORIGINAL-URL:https://soundsgood.guide
X-WR-CALDESC:Events for SoundsGood
BEGIN:VTIMEZONE
TZID:"Pacific/Auckland"
BEGIN:STANDARD
TZOFFSETFROM:+1300
TZOFFSETTO:+1200
TZNAME:NZST
DTSTART:20250405T140000
END:STANDARD
BEGIN:DAYLIGHT
TZOFFSETFROM:+1200
TZOFFSETTO:+1300
TZNAME:NZDT
DTSTART:20250927T140000
END:DAYLIGHT
END:VTIMEZONE
BEGIN:VEVENT
DTSTART;TZID="Pacific/Auckland":20250628T193000
DTEND;TZID="Pacific/Auckland":20250628T220000
DTSTAMP:20260422T123359
CREATED:20250604T013400Z
LAST-MODIFIED:20250604T013400Z
UID:25743-1751139000-1751148000@soundsgood.guide
SUMMARY:Jed Parsons
DESCRIPTION:Jed Parsons returns to Lyttelton on his nationwide tour! Solo and serious. \nWith two critically acclaimed albums\, millions of streams\, and a string of high-profile tours and collaborations under his belt\, Jed Parsons has cemented his place as one of New Zealand’s standout indie singer-songwriters and live performers. \nHis latest album ‘Brunch’ drew praise from Rolling Stone and RNZ\, the latter declaring “nobody is writing catchier choruses in NZ right now.” Since its release\, Parsons has branched out creatively—venturing into comedy\, children’s music\, and more. \nBetween releases\, collaborations with artists like Troy Kingi have taken him to sold-out shows at iconic venues such as the Wellington Opera House and Auckland Town Hall. In 2024\, he performed at the Silver Scrolls—closing the night with Hall Of Fame inductee Don McGlashan’s ‘Tomorrow Night’—and appeared at the New Zealand International Comedy Festival\, where he was a finalist for ‘Best Newcomer’ and ‘Most Unhinged Show’. More recently\, Parsons has played arenas around the country as drummer for Mel Parsons (supporting Crowded House) and completed a 20-date headline tour through Australia. \nWith brand-new music being thoroughly road-tested on his first nationwide tour in years\, anticipation is building for Parsons’ next release\, due out mid-2025. \n
URL:https://soundsgood.guide/gig/jed-parsons-3/
LOCATION:The Loons Club\, New Zealand
CATEGORIES:Concert
ATTACH;FMTTYPE=image/jpeg:https://soundsgood.guide/wp-content/uploads/2025/06/96677-742921.jpg
END:VEVENT
END:VCALENDAR