BEGIN:VCALENDAR
VERSION:2.0
PRODID:-//SoundsGood - ECPv4.9.4//NONSGML v1.0//EN
CALSCALE:GREGORIAN
METHOD:PUBLISH
X-WR-CALNAME:SoundsGood
X-ORIGINAL-URL:https://soundsgood.guide
X-WR-CALDESC:Events for SoundsGood
BEGIN:VTIMEZONE
TZID:"Pacific/Auckland"
BEGIN:STANDARD
TZOFFSETFROM:+1300
TZOFFSETTO:+1200
TZNAME:NZST
DTSTART:20240406T140000
END:STANDARD
BEGIN:DAYLIGHT
TZOFFSETFROM:+1200
TZOFFSETTO:+1300
TZNAME:NZDT
DTSTART:20240928T140000
END:DAYLIGHT
END:VTIMEZONE
BEGIN:VEVENT
DTSTART;TZID="Pacific/Auckland":20240921T150000
DTEND;TZID="Pacific/Auckland":20240921T170000
DTSTAMP:20260423T010842
CREATED:20240901T210906Z
LAST-MODIFIED:20240901T210906Z
UID:23471-1726930800-1726938000@soundsgood.guide
SUMMARY:Just Janie And Sig Wilder | Sylvia Tour
DESCRIPTION:Two modern day troubadours brought together by the poetry of two Sylvia’s. \nJust Janie and Sig Wilder are banding together to tour their new double single ‘Sylvia’. Fusing nostalgic Laurel Canyon folk and alt-country grit onstage in a ‘songwriter rounds’ format\, they will be sharing the songs and stories of the music that made them. \nSig and Janie met earlier this year in Te Whanganui-a-Tara and realized they’d both written songs titled ‘Sylvia’\, influenced by poetry collections from Sylvia Plath and Sylvia Legris. After performing together\, the duo knew there was something special when their voices merged. Now they’re bringing that magic to the stage. \n‘Sylvia’ includes two tracks\, written individually and recorded together. \nSylvia I\, written and composed by Just Janie\, is a response to reading Sylvia Plath’s poetry collection Ariel. After picking up the collection at Scorpio Books in Ōtautahi and feeling drawn in from the two cover lines: ‘I rise with my red hair\, and eat men like air’\, Janie was flawed by the collection. This is a song to deal with the trauma of reading Sylvia Plath. \nSylvia II\, written and composed by Sig Wilder\, is a response to reading Sylvia Legris’s poetry collection Garden Physic. With each page Sig\, who is also a gardener\, discovered a wealth of complex plant references and botanical histories. He was inspired by the botanical glossolalia seemingly of Sylvia’s own invention and the collection’s ability to create music from language. ‘How to write about flowers without the nauseating sentimental phraseology?’ Legris writes. This is song is an exploration of the language of plants and the haunting relationship between poet and reader. \nDrawing inspiration from the folk scene of the late sixties and early seventies\, Central Otago-born artist Just Janie has a crisp and tender style\, creating worlds for listeners to melt into. Raised in the American Midwest and now living under the Southern Cross\, Sig Wilder’s music is a journey through the hills and plains of Aotearoa\, weaving the nostalgia and sorrow of Americana into the fabric of Aotearoa’s musical landscape. \n
URL:https://soundsgood.guide/gig/just-janie-and-sig-wilder-sylvia-tour-2/
LOCATION:Scorpio Books\, Five Lanes at the BNZ Centre\, 120 Hereford St\, Christchurch\, New Zealand
CATEGORIES:Gig,Tour
ATTACH;FMTTYPE=image/jpeg:https://soundsgood.guide/wp-content/uploads/2024/08/91954-429670.jpg
END:VEVENT
END:VCALENDAR